BEGIN:VCALENDAR
VERSION:2.0
PRODID:-//Experience McAllen - ECPv6.15.17.1//NONSGML v1.0//EN
CALSCALE:GREGORIAN
METHOD:PUBLISH
X-ORIGINAL-URL:https://experiencemcallen.com
X-WR-CALDESC:Events for Experience McAllen
REFRESH-INTERVAL;VALUE=DURATION:PT1H
X-Robots-Tag:noindex
X-PUBLISHED-TTL:PT1H
BEGIN:VTIMEZONE
TZID:UTC
BEGIN:STANDARD
TZOFFSETFROM:+0000
TZOFFSETTO:+0000
TZNAME:UTC
DTSTART:20230101T000000
END:STANDARD
END:VTIMEZONE
BEGIN:VEVENT
DTSTART;TZID=UTC:20250101T200000
DTEND;TZID=UTC:20250101T200000
DTSTAMP:20260421T020026
CREATED:20221221T213943Z
LAST-MODIFIED:20241031T190201Z
UID:21779-1735761600-1735761600@experiencemcallen.com
SUMMARY:John Milton
DESCRIPTION:John Milton in McAllen\nJohn Milton en McAllen es el hipnotista e hipnoterapeuta que con hipnosis ha ayudado a miles de personas con terapias en México y todo el mundo. \nBuy Your Tickets Now! \nView More Events or Leave Us A Review
URL:https://experiencemcallen.com/event/john-milton-in-mcallen/2025-01-01/
LOCATION:McAllen Performing Arts Center\, 801 Convention Center Boulevard\, McAllen\, TX\, 78501\, United States
CATEGORIES:Performance,Performing Arts Center,Ticketed
ATTACH;FMTTYPE=image/jpeg:https://experiencemcallen.com/wp-content/uploads/2022/12/john-milton.jpg
GEO:26.198567;-98.258479
X-APPLE-STRUCTURED-LOCATION;VALUE=URI;X-ADDRESS=McAllen Performing Arts Center 801 Convention Center Boulevard McAllen TX 78501 United States;X-APPLE-RADIUS=500;X-TITLE=801 Convention Center Boulevard:geo:-98.258479,26.198567
END:VEVENT
BEGIN:VEVENT
DTSTART;TZID=UTC:20241020T120000
DTEND;TZID=UTC:20241020T220000
DTSTAMP:20260421T020026
CREATED:20230922T155535Z
LAST-MODIFIED:20240822T163244Z
UID:26142-1729425600-1729461600@experiencemcallen.com
SUMMARY:Fiesta de Palmas
DESCRIPTION:Fiesta de Palmas in McAllen at the McAllen Convention Center\nView More Events or Leave Us A Review
URL:https://experiencemcallen.com/event/fiesta-de-palmas/2024-10-20/
LOCATION:McAllen Convention Center\, 700 Convention Center Blvd\, McAllen\, TX\, 78501\, United States
CATEGORIES:Concert,Conference/Convention,Performance
ATTACH;FMTTYPE=image/jpeg:https://experiencemcallen.com/wp-content/uploads/2023/09/MCC-FDP23-Logo-Suite-04-1.jpg
GEO:26.2010768;-98.2593665
X-APPLE-STRUCTURED-LOCATION;VALUE=URI;X-ADDRESS=McAllen Convention Center 700 Convention Center Blvd McAllen TX 78501 United States;X-APPLE-RADIUS=500;X-TITLE=700 Convention Center Blvd:geo:-98.2593665,26.2010768
END:VEVENT
BEGIN:VEVENT
DTSTART;TZID=UTC:20241019T120000
DTEND;TZID=UTC:20241019T220000
DTSTAMP:20260421T020026
CREATED:20230922T155535Z
LAST-MODIFIED:20240822T163244Z
UID:26141-1729339200-1729375200@experiencemcallen.com
SUMMARY:Fiesta de Palmas
DESCRIPTION:Fiesta de Palmas in McAllen at the McAllen Convention Center\nView More Events or Leave Us A Review
URL:https://experiencemcallen.com/event/fiesta-de-palmas/2024-10-19/
LOCATION:McAllen Convention Center\, 700 Convention Center Blvd\, McAllen\, TX\, 78501\, United States
CATEGORIES:Concert,Conference/Convention,Performance
ATTACH;FMTTYPE=image/jpeg:https://experiencemcallen.com/wp-content/uploads/2023/09/MCC-FDP23-Logo-Suite-04-1.jpg
GEO:26.2010768;-98.2593665
X-APPLE-STRUCTURED-LOCATION;VALUE=URI;X-ADDRESS=McAllen Convention Center 700 Convention Center Blvd McAllen TX 78501 United States;X-APPLE-RADIUS=500;X-TITLE=700 Convention Center Blvd:geo:-98.2593665,26.2010768
END:VEVENT
BEGIN:VEVENT
DTSTART;TZID=UTC:20241018T170000
DTEND;TZID=UTC:20241018T220000
DTSTAMP:20260421T020026
CREATED:20230922T155535Z
LAST-MODIFIED:20240822T163243Z
UID:22460-1729270800-1729288800@experiencemcallen.com
SUMMARY:Fiesta de Palmas
DESCRIPTION:Fiesta de Palmas in McAllen at the McAllen Convention Center\nView More Events or Leave Us A Review
URL:https://experiencemcallen.com/event/fiesta-de-palmas/2024-10-18/
LOCATION:McAllen Convention Center\, 700 Convention Center Blvd\, McAllen\, TX\, 78501\, United States
CATEGORIES:Concert,Conference/Convention,Performance
ATTACH;FMTTYPE=image/jpeg:https://experiencemcallen.com/wp-content/uploads/2023/09/MCC-FDP23-Logo-Suite-04-1.jpg
GEO:26.2010768;-98.2593665
X-APPLE-STRUCTURED-LOCATION;VALUE=URI;X-ADDRESS=McAllen Convention Center 700 Convention Center Blvd McAllen TX 78501 United States;X-APPLE-RADIUS=500;X-TITLE=700 Convention Center Blvd:geo:-98.2593665,26.2010768
END:VEVENT
BEGIN:VEVENT
DTSTART;TZID=UTC:20240818T090000
DTEND;TZID=UTC:20240818T180000
DTSTAMP:20260421T020026
CREATED:20220615T175211Z
LAST-MODIFIED:20251229T012627Z
UID:25507-1723971600-1724004000@experiencemcallen.com
SUMMARY:Saxet Gun Show
DESCRIPTION:The Saxet Gun Show in McAllen at the McAllen Convention Center\nSaxet Gun Show is back to the McAllen Convention Center! Experience the best show for hunters to enthusiasts looking for some rare collectibles. Don’t miss out on this show! \nTickets are sold at the door for $8.
URL:https://experiencemcallen.com/event/saxet-gun-show-in-mcallen/2024-08-18/
LOCATION:McAllen Convention Center\, 700 Convention Center Blvd\, McAllen\, TX\, 78501\, United States
CATEGORIES:Conference/Convention,Convention Center,Ticketed
ATTACH;FMTTYPE=image/jpeg:https://experiencemcallen.com/wp-content/uploads/2022/06/Saxet-Gun-show.jpg
GEO:26.2010768;-98.2593665
X-APPLE-STRUCTURED-LOCATION;VALUE=URI;X-ADDRESS=McAllen Convention Center 700 Convention Center Blvd McAllen TX 78501 United States;X-APPLE-RADIUS=500;X-TITLE=700 Convention Center Blvd:geo:-98.2593665,26.2010768
END:VEVENT
BEGIN:VEVENT
DTSTART;TZID=UTC:20240817T090000
DTEND;TZID=UTC:20240817T180000
DTSTAMP:20260421T020026
CREATED:20220615T175211Z
LAST-MODIFIED:20251229T012627Z
UID:27461-1723885200-1723917600@experiencemcallen.com
SUMMARY:Saxet Gun Show
DESCRIPTION:The Saxet Gun Show in McAllen at the McAllen Convention Center\nSaxet Gun Show is back to the McAllen Convention Center! Experience the best show for hunters to enthusiasts looking for some rare collectibles. Don’t miss out on this show! \nTickets are sold at the door for $8.
URL:https://experiencemcallen.com/event/saxet-gun-show-in-mcallen/2024-08-17/
LOCATION:McAllen Convention Center\, 700 Convention Center Blvd\, McAllen\, TX\, 78501\, United States
CATEGORIES:Conference/Convention,Convention Center,Ticketed
ATTACH;FMTTYPE=image/jpeg:https://experiencemcallen.com/wp-content/uploads/2022/06/Saxet-Gun-show.jpg
GEO:26.2010768;-98.2593665
X-APPLE-STRUCTURED-LOCATION;VALUE=URI;X-ADDRESS=McAllen Convention Center 700 Convention Center Blvd McAllen TX 78501 United States;X-APPLE-RADIUS=500;X-TITLE=700 Convention Center Blvd:geo:-98.2593665,26.2010768
END:VEVENT
BEGIN:VEVENT
DTSTART;TZID=UTC:20240217T090000
DTEND;TZID=UTC:20240217T180000
DTSTAMP:20260421T020026
CREATED:20220615T175211Z
LAST-MODIFIED:20251229T012626Z
UID:21193-1708160400-1708192800@experiencemcallen.com
SUMMARY:Saxet Gun Show
DESCRIPTION:The Saxet Gun Show in McAllen at the McAllen Convention Center\nSaxet Gun Show is back to the McAllen Convention Center! Experience the best show for hunters to enthusiasts looking for some rare collectibles. Don’t miss out on this show! \nTickets are sold at the door for $8.
URL:https://experiencemcallen.com/event/saxet-gun-show-in-mcallen/2024-02-17/
LOCATION:McAllen Convention Center\, 700 Convention Center Blvd\, McAllen\, TX\, 78501\, United States
CATEGORIES:Conference/Convention,Convention Center,Ticketed
ATTACH;FMTTYPE=image/jpeg:https://experiencemcallen.com/wp-content/uploads/2022/06/Saxet-Gun-show.jpg
GEO:26.2010768;-98.2593665
X-APPLE-STRUCTURED-LOCATION;VALUE=URI;X-ADDRESS=McAllen Convention Center 700 Convention Center Blvd McAllen TX 78501 United States;X-APPLE-RADIUS=500;X-TITLE=700 Convention Center Blvd:geo:-98.2593665,26.2010768
END:VEVENT
END:VCALENDAR