BEGIN:VCALENDAR
VERSION:2.0
PRODID:-//Experience McAllen - ECPv6.15.17.1//NONSGML v1.0//EN
CALSCALE:GREGORIAN
METHOD:PUBLISH
X-WR-CALNAME:Experience McAllen
X-ORIGINAL-URL:https://experiencemcallen.com
X-WR-CALDESC:Events for Experience McAllen
REFRESH-INTERVAL;VALUE=DURATION:PT1H
X-Robots-Tag:noindex
X-PUBLISHED-TTL:PT1H
BEGIN:VTIMEZONE
TZID:UTC
BEGIN:STANDARD
TZOFFSETFROM:+0000
TZOFFSETTO:+0000
TZNAME:UTC
DTSTART:20230101T000000
END:STANDARD
END:VTIMEZONE
BEGIN:VEVENT
DTSTART;TZID=UTC:20250531T200000
DTEND;TZID=UTC:20250531T200000
DTSTAMP:20260420T034648
CREATED:20250211T222750Z
LAST-MODIFIED:20250213T000358Z
UID:26456-1748721600-1748721600@experiencemcallen.com
SUMMARY:David Bisbal
DESCRIPTION:David Bisbal in McAllen at the McAllen Performing Arts Center\nDavid Bisbal returns to the U.S. stages with “BACK IN THE USA” Tour 2025.\nAfter a spectacular year 2024 full of successes\, awards and having conquered audiences around the world with his artistic versatility\, his ability to reinvent himself and his immense charisma\, David Bisbal returns to the United States to present his new show “Back in the Usa” Tour 2025\, which includes a renewed repertoire that includes all his greatest hits\, as well as the most recent songs of his discography. \nTwenty concerts throughout the United States: Los Angeles\, Chicago\, New York\, Washington\, among other cities. \nWith this new tour\, David Bisbal has fulfilled one of his greatest artistic desires\, returning after four years to the American continent to meet again with his beloved public\, thus infecting us with his emotion and joy. \nAbout David Bisbal\nDavid Bisbal is an artist who has accumulated more than 80 national and international awards including 3 Latin Grammys\, 3 Latin Billboard Awards\, 3 World Music Awards and 2 Premios Ondas. \nWith more than 20 years of career in which he has achieved 11 Diamond Records and more than 5 million tickets sold of his more than 1000 concerts around the world in important venues such as the Royal Albert Hall\, the O2 Arena in London\, the Carnegie Hall\, the Barclays Center in New York\, the Teatro Real in Madrid or the Olympia in Paris. \nDavid Bisbal\, one of the most beloved artists in Spanish music\, has closed the year 2024 with a new milestone in his career. His recent Christmas album\, “Todo es Posible en Navidad”\, under the production of Cheche Alara\, has conquered both the sales charts and most listened albums as well as the hearts of the public\, becoming a resounding success\, reaching gold record certification being the best-selling album in Spain in recent weeks. It has achieved more than 360 million streams worldwide\, has generated more than 360K creations in Tik Tok and has put its 10 songs in the top 200 of Spotify Spain\, with 2 songs in the top 10: Todo es Posible en Navidad and El Burrito Sabanero\, which could be said to have become the Christmas anthems of this year. \nIn addition\, Bisbal has taken the Christmas spirit to various stages\, such as the Adolfo Suárez Madrid – Barajas airport\, as part of the Christmas ad for AENA (Spanish airport network)\, to the emblematic Puerta del Sol\, with a performance that managed to thrill thousands of Madrilenians gathered in the famous square. \nHe also dressed up as Santa Claus with The Grefg\, surprising the locals walking through the center of the city. Together with Cadena 100 he visited a school that won a Christmas carol contest\, walked with Ibai through an emblematic Christmas venue in Barcelona and said goodbye to the year 2024 with a stellar performance from the Empire State Building in New York. \nAnd as a finishing touch to all these actions\, David Broncano wanted him to be present at the broadcasting of the Campanadas on TVE and\, as an amulet\, he wore the socks that David had sent him for the release of the new album.\nView More Events or Leave Us A Review
URL:https://experiencemcallen.com/event/david-bisbal/
LOCATION:McAllen Performing Arts Center\, 801 Convention Center Boulevard\, McAllen\, TX\, 78501\, United States
CATEGORIES:Concert,Performing Arts Center,Ticketed
ATTACH;FMTTYPE=image/jpeg:https://experiencemcallen.com/wp-content/uploads/2025/02/Static_Social-Instagram_1080x1080_DavidBisbal_2025_National.jpg
GEO:26.198567;-98.258479
X-APPLE-STRUCTURED-LOCATION;VALUE=URI;X-ADDRESS=McAllen Performing Arts Center 801 Convention Center Boulevard McAllen TX 78501 United States;X-APPLE-RADIUS=500;X-TITLE=801 Convention Center Boulevard:geo:-98.258479,26.198567
END:VEVENT
BEGIN:VEVENT
DTSTART;TZID=UTC:20250531T090000
DTEND;TZID=UTC:20250531T160000
DTSTAMP:20260420T034648
CREATED:20250402T204819Z
LAST-MODIFIED:20250402T204820Z
UID:26625-1748682000-1748707200@experiencemcallen.com
SUMMARY:South Texas Builder Show
DESCRIPTION:South Texas Builders Show in McAllen at the McAllen Convention Center\nView More Events or Leave Us A Review
URL:https://experiencemcallen.com/event/south-texas-builder-show/
LOCATION:McAllen Convention Center\, 700 Convention Center Blvd\, McAllen\, TX\, 78501\, United States
CATEGORIES:Conference/Convention
ATTACH;FMTTYPE=image/jpeg:https://experiencemcallen.com/wp-content/uploads/2025/04/WEB-1080-X-1080-Web-Banner-2025-STBS-McA-Convention-Center.jpg
GEO:26.2010768;-98.2593665
X-APPLE-STRUCTURED-LOCATION;VALUE=URI;X-ADDRESS=McAllen Convention Center 700 Convention Center Blvd McAllen TX 78501 United States;X-APPLE-RADIUS=500;X-TITLE=700 Convention Center Blvd:geo:-98.2593665,26.2010768
END:VEVENT
BEGIN:VEVENT
DTSTART;TZID=UTC:20250516T200000
DTEND;TZID=UTC:20250516T200000
DTSTAMP:20260420T034648
CREATED:20240716T002436Z
LAST-MODIFIED:20250225T181922Z
UID:25949-1747425600-1747425600@experiencemcallen.com
SUMMARY:Four Phantoms - Broadway in The RGV
DESCRIPTION:Four Phantoms in McAllen at the McAllen Performing Arts Center\nSometimes you wish that a concert would never end – a fantastic\, do not miss night of entertainment. \nJohn W. Hunt\nPresident\nCultural Center at Ocean Reef \nAn extravagant celebration of the iconic music of Broadway and more\, The Four Phantoms In Concert brings together four Phantoms from the Tony Award-winning The Phantom of the Opera for an unforgettable night of entertainment. The Four Phantoms features an extraordinary quartet of performers\, including Brent Barrett\, John Cudia\, Franc D’Ambrosio\, and Ciarán Sheehan under the music direction of Ryan Shirar. \nRun time: Approx. 2 hours and including one intermission. \nLearn More About Group Sales \nIndividual Tickets On Sale Now
URL:https://experiencemcallen.com/event/four-phantoms-broadway-in-the-rgv/
LOCATION:McAllen Performing Arts Center\, 801 Convention Center Boulevard\, McAllen\, TX\, 78501\, United States
CATEGORIES:Performance,Performing Arts Center,Ticketed
ATTACH;FMTTYPE=image/jpeg:https://experiencemcallen.com/wp-content/uploads/2024/07/four-icon.jpeg
GEO:26.198567;-98.258479
X-APPLE-STRUCTURED-LOCATION;VALUE=URI;X-ADDRESS=McAllen Performing Arts Center 801 Convention Center Boulevard McAllen TX 78501 United States;X-APPLE-RADIUS=500;X-TITLE=801 Convention Center Boulevard:geo:-98.258479,26.198567
END:VEVENT
BEGIN:VEVENT
DTSTART;TZID=UTC:20250511T170000
DTEND;TZID=UTC:20250511T220000
DTSTAMP:20260420T034648
CREATED:20240403T210239Z
LAST-MODIFIED:20240403T210239Z
UID:26720-1746982800-1747000800@experiencemcallen.com
SUMMARY:MXLAN 2024
DESCRIPTION:
URL:https://experiencemcallen.com/event/mxlan-2025/2025-05-11/
LOCATION:McAllen Performing Arts Center\, 801 Convention Center Boulevard\, McAllen\, TX\, 78501\, United States
CATEGORIES:Concert,Featured,Oval Park
ATTACH;FMTTYPE=image/jpeg:https://experiencemcallen.com/wp-content/uploads/2024/04/MOBILE-mxlan-slider.jpg
GEO:26.198567;-98.258479
X-APPLE-STRUCTURED-LOCATION;VALUE=URI;X-ADDRESS=McAllen Performing Arts Center 801 Convention Center Boulevard McAllen TX 78501 United States;X-APPLE-RADIUS=500;X-TITLE=801 Convention Center Boulevard:geo:-98.258479,26.198567
END:VEVENT
BEGIN:VEVENT
DTSTART;TZID=UTC:20250510T200000
DTEND;TZID=UTC:20250510T200000
DTSTAMP:20260420T034648
CREATED:20250123T174859Z
LAST-MODIFIED:20250123T174859Z
UID:26412-1746907200-1746907200@experiencemcallen.com
SUMMARY:Elias Medina
DESCRIPTION:Elias Medina in McAllen at the McAllen Performing Arts Center\n\nView More Events or Leave Us A Review
URL:https://experiencemcallen.com/event/elias-medina/
LOCATION:McAllen Performing Arts Center\, 801 Convention Center Boulevard\, McAllen\, TX\, 78501\, United States
CATEGORIES:Concert,Performing Arts Center,Ticketed
ATTACH;FMTTYPE=image/jpeg:https://experiencemcallen.com/wp-content/uploads/2025/01/Flyer-Elias-Feed-10-mayo.jpg
GEO:26.198567;-98.258479
X-APPLE-STRUCTURED-LOCATION;VALUE=URI;X-ADDRESS=McAllen Performing Arts Center 801 Convention Center Boulevard McAllen TX 78501 United States;X-APPLE-RADIUS=500;X-TITLE=801 Convention Center Boulevard:geo:-98.258479,26.198567
END:VEVENT
BEGIN:VEVENT
DTSTART;TZID=UTC:20250427T103000
DTEND;TZID=UTC:20250427T180000
DTSTAMP:20260420T034648
CREATED:20250325T143737Z
LAST-MODIFIED:20250325T155035Z
UID:26610-1745749800-1745776800@experiencemcallen.com
SUMMARY:South Texas Comic Con 2025
DESCRIPTION:
URL:https://experiencemcallen.com/event/south-texas-comic-con/2025-04-27/
LOCATION:McAllen Performing Arts Center\, 801 Convention Center Boulevard\, McAllen\, TX\, 78501\, United States
CATEGORIES:Conference/Convention,Convention Center,Ticketed
ATTACH;FMTTYPE=image/jpeg:https://experiencemcallen.com/wp-content/uploads/2025/03/comiccon.jpg
GEO:26.198567;-98.258479
X-APPLE-STRUCTURED-LOCATION;VALUE=URI;X-ADDRESS=McAllen Performing Arts Center 801 Convention Center Boulevard McAllen TX 78501 United States;X-APPLE-RADIUS=500;X-TITLE=801 Convention Center Boulevard:geo:-98.258479,26.198567
END:VEVENT
BEGIN:VEVENT
DTSTART;TZID=UTC:20250420T100000
DTEND;TZID=UTC:20250420T140000
DTSTAMP:20260420T034648
CREATED:20250402T211914Z
LAST-MODIFIED:20250402T211933Z
UID:26636-1745143200-1745157600@experiencemcallen.com
SUMMARY:Easter Juntos
DESCRIPTION:Easter Juntos in McAllen at the McAllen Convention Center\nView More Events or Leave Us A Review
URL:https://experiencemcallen.com/event/easter-juntos/
LOCATION:McAllen Convention Center\, 700 Convention Center Blvd\, McAllen\, TX\, 78501\, United States
CATEGORIES:Conference/Convention
ATTACH;FMTTYPE=image/jpeg:https://experiencemcallen.com/wp-content/uploads/2025/04/Easter-Juntos1080-x-1350-English.jpg
GEO:26.2010768;-98.2593665
X-APPLE-STRUCTURED-LOCATION;VALUE=URI;X-ADDRESS=McAllen Convention Center 700 Convention Center Blvd McAllen TX 78501 United States;X-APPLE-RADIUS=500;X-TITLE=700 Convention Center Blvd:geo:-98.2593665,26.2010768
END:VEVENT
BEGIN:VEVENT
DTSTART;TZID=UTC:20250419T200000
DTEND;TZID=UTC:20250419T200000
DTSTAMP:20260420T034648
CREATED:20250129T183125Z
LAST-MODIFIED:20250129T183638Z
UID:26424-1745092800-1745092800@experiencemcallen.com
SUMMARY:Cheap Trick
DESCRIPTION:Cheap Trick in McAllen at the Performing Arts Center\n\nView More Events or Leave Us A Review
URL:https://experiencemcallen.com/event/cheap-trick/
LOCATION:McAllen Performing Arts Center\, 801 Convention Center Boulevard\, McAllen\, TX\, 78501\, United States
CATEGORIES:Concert,Performing Arts Center,Ticketed
ATTACH;FMTTYPE=image/jpeg:https://experiencemcallen.com/wp-content/uploads/2025/01/052425-cheap-trick-viejas-admat.jpg
GEO:26.198567;-98.258479
X-APPLE-STRUCTURED-LOCATION;VALUE=URI;X-ADDRESS=McAllen Performing Arts Center 801 Convention Center Boulevard McAllen TX 78501 United States;X-APPLE-RADIUS=500;X-TITLE=801 Convention Center Boulevard:geo:-98.258479,26.198567
END:VEVENT
BEGIN:VEVENT
DTSTART;TZID=UTC:20250413T110000
DTEND;TZID=UTC:20250413T170000
DTSTAMP:20260420T034648
CREATED:20250402T212145Z
LAST-MODIFIED:20250402T212145Z
UID:26640-1744542000-1744563600@experiencemcallen.com
SUMMARY:34th Annual Home & Garden Show
DESCRIPTION:Home & Garden Show in McAllen at the McAllen Convention Center\nView More Events or Leave Us A Review
URL:https://experiencemcallen.com/event/34th-annual-home-garden-show/2025-04-13/
LOCATION:McAllen Convention Center\, 700 Convention Center Blvd\, McAllen\, TX\, 78501\, United States
CATEGORIES:Conference/Convention
ATTACH;FMTTYPE=image/jpeg:https://experiencemcallen.com/wp-content/uploads/2025/04/new-feed-dimentions-.jpg
GEO:26.2010768;-98.2593665
X-APPLE-STRUCTURED-LOCATION;VALUE=URI;X-ADDRESS=McAllen Convention Center 700 Convention Center Blvd McAllen TX 78501 United States;X-APPLE-RADIUS=500;X-TITLE=700 Convention Center Blvd:geo:-98.2593665,26.2010768
END:VEVENT
BEGIN:VEVENT
DTSTART;TZID=UTC:20250412T190000
DTEND;TZID=UTC:20250412T190000
DTSTAMP:20260420T034648
CREATED:20250402T212328Z
LAST-MODIFIED:20250402T212328Z
UID:26643-1744484400-1744484400@experiencemcallen.com
SUMMARY:Mega Harvest
DESCRIPTION:Mega Harvest in McAllen at the McAllen Convention Center\nView More Events or Leave Us A Review
URL:https://experiencemcallen.com/event/south-texas-builder-show-mega-harvest/2025-04-12/
LOCATION:McAllen Convention Center\, 700 Convention Center Blvd\, McAllen\, TX\, 78501\, United States
CATEGORIES:Conference/Convention
ATTACH;FMTTYPE=image/jpeg:https://experiencemcallen.com/wp-content/uploads/2025/04/rgv-billboard-3.jpeg
GEO:26.2010768;-98.2593665
X-APPLE-STRUCTURED-LOCATION;VALUE=URI;X-ADDRESS=McAllen Convention Center 700 Convention Center Blvd McAllen TX 78501 United States;X-APPLE-RADIUS=500;X-TITLE=700 Convention Center Blvd:geo:-98.2593665,26.2010768
END:VEVENT
BEGIN:VEVENT
DTSTART;TZID=UTC:20250323T100000
DTEND;TZID=UTC:20250323T200000
DTSTAMP:20260420T034648
CREATED:20250305T163140Z
LAST-MODIFIED:20250305T163140Z
UID:26580-1742724000-1742760000@experiencemcallen.com
SUMMARY:Palm CIty Tattoo Expo
DESCRIPTION:General admission ticket is:  $25\nWeekend Pass:   $40\nChildren 12 yrs and under\, Free admission
URL:https://experiencemcallen.com/event/palm-city-tattoo-expo/2025-03-23/
LOCATION:McAllen Convention Center\, 700 Convention Center Blvd\, McAllen\, TX\, 78501\, United States
CATEGORIES:Conference/Convention,Convention Center,Ticketed
ATTACH;FMTTYPE=image/png:https://experiencemcallen.com/wp-content/uploads/2025/03/saxetpalm.png
GEO:26.2010768;-98.2593665
X-APPLE-STRUCTURED-LOCATION;VALUE=URI;X-ADDRESS=McAllen Convention Center 700 Convention Center Blvd McAllen TX 78501 United States;X-APPLE-RADIUS=500;X-TITLE=700 Convention Center Blvd:geo:-98.2593665,26.2010768
END:VEVENT
BEGIN:VEVENT
DTSTART;TZID=UTC:20250202T080000
DTEND;TZID=UTC:20250202T080000
DTSTAMP:20260420T034648
CREATED:20220115T201718Z
LAST-MODIFIED:20250111T005218Z
UID:26350-1738483200-1738483200@experiencemcallen.com
SUMMARY:McAllen CarFest
DESCRIPTION:McAllen CarFest at the McAllen Convention Center\n🚗 ⚙️GEAR UP for McAllen International CarFest’s 15th Anniversary! Join us Jan 31st – Feb 2nd! 🏎️ 🎉 \nKids 12 years & under: FREE\nGet your tickets NOW at https://bit.ly/McallenCarfest25 \nENJOY our 15th ANNIVERSARY ATTRACTIONS\n🚘300+ Vehicles indoors & outdoors around Oval Park\n🏎️Porsche Skills Challenge by RGV Porsche Club\n🏆2 Live Music Stages\, Arcade\, & Food Park\n🍺 Beer Garden inside Exhibit Hall\n🌟Special Guests\n💥50 ft. LEGO Racetrack\n🎊Carfest Swap Meet AND MORE!! \n📍McAllen Convention Center\nFri. Jan. 31 – 4 pm – 9 pm\nSat. Feb. 1 – 10 am – 9 pm\nSun. Feb. 2 – 10 am – 6 pm \n🎟Admission: Kids 12 years & under: FREE\nAdults: $15 | 3 Day Pass: $30\nSenior Citizens (60+): $12\nMilitary/First Responders\, 60 Years+\, and Students 13-18 years with valid school ID: $12 \n🏎Visit www.mcallencarfest.com for tickets and more! \nCarFest is brought to you by McAllen International Airport\, Payne Auto Group\, Clark Chevrolet\, & Texas Tops\n#McAllenInternationalCarfest #McAllenTX #Carfest \n        \nView More Events or Leave Us A Review \n​
URL:https://experiencemcallen.com/event/mcallen-carfest/2025-02-02/
LOCATION:McAllen Convention Center\, 700 Convention Center Blvd\, McAllen\, TX\, 78501\, United States
CATEGORIES:Conference/Convention,Convention Center,Featured,Ticketed
ATTACH;FMTTYPE=image/jpeg:https://experiencemcallen.com/wp-content/uploads/2022/01/CF25-01.jpg
GEO:26.2010768;-98.2593665
X-APPLE-STRUCTURED-LOCATION;VALUE=URI;X-ADDRESS=McAllen Convention Center 700 Convention Center Blvd McAllen TX 78501 United States;X-APPLE-RADIUS=500;X-TITLE=700 Convention Center Blvd:geo:-98.2593665,26.2010768
END:VEVENT
BEGIN:VEVENT
DTSTART;TZID=UTC:20250122T090000
DTEND;TZID=UTC:20250122T150000
DTSTAMP:20260420T034648
CREATED:20241227T153911Z
LAST-MODIFIED:20241227T153945Z
UID:26311-1737536400-1737558000@experiencemcallen.com
SUMMARY:Winter Texan Expo
DESCRIPTION:
URL:https://experiencemcallen.com/event/winter-texan-expo/2025-01-22/
LOCATION:McAllen Convention Center\, 700 Convention Center Blvd\, McAllen\, TX\, 78501\, United States
ATTACH;FMTTYPE=image/png:https://experiencemcallen.com/wp-content/uploads/2024/12/winter-texans.png
GEO:26.2010768;-98.2593665
X-APPLE-STRUCTURED-LOCATION;VALUE=URI;X-ADDRESS=McAllen Convention Center 700 Convention Center Blvd McAllen TX 78501 United States;X-APPLE-RADIUS=500;X-TITLE=700 Convention Center Blvd:geo:-98.2593665,26.2010768
END:VEVENT
BEGIN:VEVENT
DTSTART;TZID=UTC:20250105T200000
DTEND;TZID=UTC:20250105T200000
DTSTAMP:20260420T034648
CREATED:20221221T213943Z
LAST-MODIFIED:20241031T190209Z
UID:26247-1736107200-1736107200@experiencemcallen.com
SUMMARY:John Milton
DESCRIPTION:John Milton in McAllen\nJohn Milton en McAllen es el hipnotista e hipnoterapeuta que con hipnosis ha ayudado a miles de personas con terapias en México y todo el mundo. \nBuy Your Tickets Now! \nView More Events or Leave Us A Review
URL:https://experiencemcallen.com/event/john-milton-in-mcallen/2025-01-05/
LOCATION:McAllen Performing Arts Center\, 801 Convention Center Boulevard\, McAllen\, TX\, 78501\, United States
CATEGORIES:Performance,Performing Arts Center,Ticketed
ATTACH;FMTTYPE=image/jpeg:https://experiencemcallen.com/wp-content/uploads/2022/12/john-milton.jpg
GEO:26.198567;-98.258479
X-APPLE-STRUCTURED-LOCATION;VALUE=URI;X-ADDRESS=McAllen Performing Arts Center 801 Convention Center Boulevard McAllen TX 78501 United States;X-APPLE-RADIUS=500;X-TITLE=801 Convention Center Boulevard:geo:-98.258479,26.198567
END:VEVENT
BEGIN:VEVENT
DTSTART;TZID=UTC:20241020T120000
DTEND;TZID=UTC:20241020T220000
DTSTAMP:20260420T034648
CREATED:20230922T155535Z
LAST-MODIFIED:20240822T163244Z
UID:26142-1729425600-1729461600@experiencemcallen.com
SUMMARY:Fiesta de Palmas
DESCRIPTION:Fiesta de Palmas in McAllen at the McAllen Convention Center\nView More Events or Leave Us A Review
URL:https://experiencemcallen.com/event/fiesta-de-palmas/2024-10-20/
LOCATION:McAllen Convention Center\, 700 Convention Center Blvd\, McAllen\, TX\, 78501\, United States
CATEGORIES:Concert,Conference/Convention,Performance
ATTACH;FMTTYPE=image/jpeg:https://experiencemcallen.com/wp-content/uploads/2023/09/MCC-FDP23-Logo-Suite-04-1.jpg
GEO:26.2010768;-98.2593665
X-APPLE-STRUCTURED-LOCATION;VALUE=URI;X-ADDRESS=McAllen Convention Center 700 Convention Center Blvd McAllen TX 78501 United States;X-APPLE-RADIUS=500;X-TITLE=700 Convention Center Blvd:geo:-98.2593665,26.2010768
END:VEVENT
BEGIN:VEVENT
DTSTART;TZID=UTC:20260420T034648
DTEND;TZID=UTC:20260420T034648
DTSTAMP:20260420T034648
CREATED:20200602T145636Z
LAST-MODIFIED:20200602T145636Z
UID:19267-1776656808-1776656808@experiencemcallen.com
SUMMARY:Rain: A Tribute To the Beatles (Touring)
DESCRIPTION:NEW DATE!\nDate: Thursday April 15\, 2021 \nLocation: McAllen Performing Arts Center \nShowtime: 8:00pm \nAdmission Fee:  $105.00\, $55.00\, $50.00\, $45.00\, $40.00 plus fees at Ticketmaster.com. \nDoors open one hour before the show.
URL:https://experiencemcallen.com/event/rain-a-tribute-to-the-beatles-touring/
LOCATION:TX
CATEGORIES:Concert,Featured,Performance,Performing Arts Center,Ticketed
END:VEVENT
BEGIN:VEVENT
DTSTART;TZID=UTC:20260420T034648
DTEND;TZID=UTC:20260420T034648
DTSTAMP:20260420T034648
CREATED:20161027T082959Z
LAST-MODIFIED:20240619T180620Z
UID:11429-1776656808-1776656808@experiencemcallen.com
SUMMARY:La India Yuridia - Nuevo Show Navideno
DESCRIPTION:La India Yuridia – Nuevo Show Navideno\nMcAllen Convention Center\nDecember 21\, 2016\n9:00PM \nAdmission:\n$30.00*\n$40.00*\n$45.00*\n*Plus Fees \nTickets on sale at all Ticketmaster locations & at the McAllen Convention Center Box Office\, open Monday-Friday 10:00AM-5:00PM.
URL:https://experiencemcallen.com/event/la-india-yuridia-nuevo-show-navideno/
LOCATION:TX
CATEGORIES:Concert,Performing Arts Center,Ticketed
ATTACH;FMTTYPE=:
END:VEVENT
END:VCALENDAR