BEGIN:VCALENDAR
VERSION:2.0
PRODID:-//Experience McAllen - ECPv6.15.17.1//NONSGML v1.0//EN
CALSCALE:GREGORIAN
METHOD:PUBLISH
X-ORIGINAL-URL:https://experiencemcallen.com
X-WR-CALDESC:Events for Experience McAllen
REFRESH-INTERVAL;VALUE=DURATION:PT1H
X-Robots-Tag:noindex
X-PUBLISHED-TTL:PT1H
BEGIN:VTIMEZONE
TZID:UTC
BEGIN:STANDARD
TZOFFSETFROM:+0000
TZOFFSETTO:+0000
TZNAME:UTC
DTSTART:20250101T000000
END:STANDARD
END:VTIMEZONE
BEGIN:VEVENT
DTSTART;VALUE=DATE:20260417
DTEND;VALUE=DATE:20260420
DTSTAMP:20260419T161133
CREATED:20260320T130345Z
LAST-MODIFIED:20260319T164859Z
UID:49930-1776384000-1776643199@experiencemcallen.com
SUMMARY:Palm City Tattoo Expo 2026 | McAllen TX  April 17–19
DESCRIPTION:Palm City Tattoo Expo 2026 | McAllen TX  April 17–19\nPalm City Tattoo Expo returns to McAllen April 17–19\, 2026 featuring tattoo artists\, live tattooing\, contests\, vendors\, and entertainment in South Texas. \n  \nBUY TICKETS \n  \nPalm City Tattoo Expo Returns to McAllen\nPalm City Tattoo Expo brings top tattoo artists\, live tattooing\, contests\, and vendors to McAllen April 17–19\, 2026 for a weekend celebrating tattoo culture and artistry. \n  \nThe Palm City Tattoo Expo returns to the McAllen Convention Center for an exciting weekend celebrating tattoo artistry\, creativity\, and culture from April 17 through April 19\, 2026. \nHosted in McAllen\, Texas\, this multi-day event brings together talented tattoo artists from across the region and beyond\, offering attendees the opportunity to experience live tattooing\, meet artists\, and explore a wide variety of styles and techniques. \nThroughout the weekend\, guests can enjoy: \n🎨 Live tattoo sessions by professional artists🖊 Opportunities to get tattooed on-site🏆 Tattoo contests showcasing top work🛍 Vendors featuring art\, apparel\, and collectibles🎶 Live entertainment and special attractions \nThe Palm City Tattoo Expo has become a standout event in South Texas\, attracting tattoo enthusiasts\, collectors\, and artists looking to connect\, showcase their work\, and celebrate the culture behind the art form. \nWhether you’re looking to get your next tattoo\, meet talented artists\, or simply explore the creativity of the tattoo world\, this event offers an immersive experience unlike any other in the Rio Grande Valley. \n\nEVENT DETAILS\n📅 Dates: April 17–19\, 2026 \n📍 Location: McAllen Convention Center \n🌐 More information: \nhttps://www.palmcitytattooexpo.com/ \n 
URL:https://experiencemcallen.com/event/palm-city-tattoo-expo-mcallen-2026/
LOCATION:McAllen Performing Arts Center\, 801 Convention Center Boulevard\, McAllen\, TX\, 78501\, United States
CATEGORIES:Conference/Convention,Convention Center,Featured,Ticketed
ATTACH;FMTTYPE=image/jpeg:https://experiencemcallen.com/wp-content/uploads/2026/03/1080-X-1080-working-file-44.jpg
GEO:26.198567;-98.258479
X-APPLE-STRUCTURED-LOCATION;VALUE=URI;X-ADDRESS=McAllen Performing Arts Center 801 Convention Center Boulevard McAllen TX 78501 United States;X-APPLE-RADIUS=500;X-TITLE=801 Convention Center Boulevard:geo:-98.258479,26.198567
END:VEVENT
BEGIN:VEVENT
DTSTART;TZID=UTC:20260424T103000
DTEND;TZID=UTC:20260424T200000
DTSTAMP:20260419T161134
CREATED:20260318T161714Z
LAST-MODIFIED:20260318T161831Z
UID:49443-1777026600-1777060800@experiencemcallen.com
SUMMARY:South Texas Comic Con 2026 | McAllen Convention Center | April 24–26
DESCRIPTION:South Texas Comic Con Returns to McAllen\nSouth Texas Comic Con returns to the McAllen Convention Center April 24–26\, 2026 featuring celebrity guests\, cosplay\, gaming\, anime\, comics\, and pop culture events. \n  \nThree Days of Pop Culture\, Cosplay\, Gaming\, and Celebrity Guests\nFans of comics\, anime\, gaming\, and pop culture can get ready for one of the largest entertainment conventions in South Texas as South Texas Comic Con returns to the McAllen Convention Center from April 24 through April 26\, 2026. \nThis three-day event brings together thousands of fans from across Texas and the Rio Grande Valley to celebrate everything from comic books and anime to video games\, movies\, television\, and cosplay. \nAttendees can explore an exciting convention floor filled with: \n🎮 Gaming experiences🦸 Celebrity guest appearances🎭 Cosplay contests and meetups🛍 Artist alley and collectible vendors🎤 Panels and fan discussions📸 Photo opportunities with pop culture icons \nSouth Texas Comic Con has become one of the most anticipated fan conventions in the region\, attracting artists\, creators\, cosplayers\, and fans who come together to celebrate their favorite characters and fandoms. \nWhether you’re a longtime comic collector\, anime enthusiast\, gamer\, or simply love pop culture\, this weekend event offers something for fans of all ages. \nEvent: South Texas Comic Con📅 Dates: April 24–26\, 2026 \n📍 Location: McAllen Convention Center \n📍 Address: 700 Convention Center Blvd\, McAllen\, TX \n🌐 More information: https://www.southtexascomiccon.com/ \n 
URL:https://experiencemcallen.com/event/south-texas-comic-con-mcallen-2026/2026-04-24/
LOCATION:McAllen Convention Center\, 700 Convention Center Blvd\, McAllen\, TX\, 78501\, United States
CATEGORIES:Conference/Convention,Convention Center,Ticketed
ATTACH;FMTTYPE=image/jpeg:https://experiencemcallen.com/wp-content/uploads/2026/03/1080-X-1080-working-file-40.jpg
GEO:26.2010768;-98.2593665
X-APPLE-STRUCTURED-LOCATION;VALUE=URI;X-ADDRESS=McAllen Convention Center 700 Convention Center Blvd McAllen TX 78501 United States;X-APPLE-RADIUS=500;X-TITLE=700 Convention Center Blvd:geo:-98.2593665,26.2010768
END:VEVENT
BEGIN:VEVENT
DTSTART;TZID=UTC:20260425T090000
DTEND;TZID=UTC:20260426T180000
DTSTAMP:20260419T161134
CREATED:20260318T161714Z
LAST-MODIFIED:20260318T161833Z
UID:49460-1777107600-1777226400@experiencemcallen.com
SUMMARY:South Texas Comic Con 2026 | McAllen Convention Center | April 24–26
DESCRIPTION:South Texas Comic Con Returns to McAllen\nSouth Texas Comic Con returns to the McAllen Convention Center April 24–26\, 2026 featuring celebrity guests\, cosplay\, gaming\, anime\, comics\, and pop culture events. \n  \nThree Days of Pop Culture\, Cosplay\, Gaming\, and Celebrity Guests\nFans of comics\, anime\, gaming\, and pop culture can get ready for one of the largest entertainment conventions in South Texas as South Texas Comic Con returns to the McAllen Convention Center from April 24 through April 26\, 2026. \nThis three-day event brings together thousands of fans from across Texas and the Rio Grande Valley to celebrate everything from comic books and anime to video games\, movies\, television\, and cosplay. \nAttendees can explore an exciting convention floor filled with: \n🎮 Gaming experiences🦸 Celebrity guest appearances🎭 Cosplay contests and meetups🛍 Artist alley and collectible vendors🎤 Panels and fan discussions📸 Photo opportunities with pop culture icons \nSouth Texas Comic Con has become one of the most anticipated fan conventions in the region\, attracting artists\, creators\, cosplayers\, and fans who come together to celebrate their favorite characters and fandoms. \nWhether you’re a longtime comic collector\, anime enthusiast\, gamer\, or simply love pop culture\, this weekend event offers something for fans of all ages. \nEvent: South Texas Comic Con📅 Dates: April 24–26\, 2026 \n📍 Location: McAllen Convention Center \n📍 Address: 700 Convention Center Blvd\, McAllen\, TX \n🌐 More information: https://www.southtexascomiccon.com/ \n 
URL:https://experiencemcallen.com/event/south-texas-comic-con-mcallen-2026/2026-04-25/2/
LOCATION:McAllen Convention Center\, 700 Convention Center Blvd\, McAllen\, TX\, 78501\, United States
CATEGORIES:Conference/Convention,Convention Center,Ticketed
ATTACH;FMTTYPE=image/jpeg:https://experiencemcallen.com/wp-content/uploads/2026/03/1080-X-1080-working-file-40.jpg
GEO:26.2010768;-98.2593665
X-APPLE-STRUCTURED-LOCATION;VALUE=URI;X-ADDRESS=McAllen Convention Center 700 Convention Center Blvd McAllen TX 78501 United States;X-APPLE-RADIUS=500;X-TITLE=700 Convention Center Blvd:geo:-98.2593665,26.2010768
END:VEVENT
BEGIN:VEVENT
DTSTART;TZID=UTC:20260425T090000
DTEND;TZID=UTC:20260426T190000
DTSTAMP:20260419T161134
CREATED:20260318T161714Z
LAST-MODIFIED:20260318T161832Z
UID:49459-1777107600-1777230000@experiencemcallen.com
SUMMARY:South Texas Comic Con 2026 | McAllen Convention Center | April 24–26
DESCRIPTION:South Texas Comic Con Returns to McAllen\nSouth Texas Comic Con returns to the McAllen Convention Center April 24–26\, 2026 featuring celebrity guests\, cosplay\, gaming\, anime\, comics\, and pop culture events. \n  \nThree Days of Pop Culture\, Cosplay\, Gaming\, and Celebrity Guests\nFans of comics\, anime\, gaming\, and pop culture can get ready for one of the largest entertainment conventions in South Texas as South Texas Comic Con returns to the McAllen Convention Center from April 24 through April 26\, 2026. \nThis three-day event brings together thousands of fans from across Texas and the Rio Grande Valley to celebrate everything from comic books and anime to video games\, movies\, television\, and cosplay. \nAttendees can explore an exciting convention floor filled with: \n🎮 Gaming experiences🦸 Celebrity guest appearances🎭 Cosplay contests and meetups🛍 Artist alley and collectible vendors🎤 Panels and fan discussions📸 Photo opportunities with pop culture icons \nSouth Texas Comic Con has become one of the most anticipated fan conventions in the region\, attracting artists\, creators\, cosplayers\, and fans who come together to celebrate their favorite characters and fandoms. \nWhether you’re a longtime comic collector\, anime enthusiast\, gamer\, or simply love pop culture\, this weekend event offers something for fans of all ages. \nEvent: South Texas Comic Con📅 Dates: April 24–26\, 2026 \n📍 Location: McAllen Convention Center \n📍 Address: 700 Convention Center Blvd\, McAllen\, TX \n🌐 More information: https://www.southtexascomiccon.com/ \n 
URL:https://experiencemcallen.com/event/south-texas-comic-con-mcallen-2026/2026-04-25/
LOCATION:McAllen Convention Center\, 700 Convention Center Blvd\, McAllen\, TX\, 78501\, United States
CATEGORIES:Conference/Convention,Convention Center,Ticketed
ATTACH;FMTTYPE=image/jpeg:https://experiencemcallen.com/wp-content/uploads/2026/03/1080-X-1080-working-file-40.jpg
GEO:26.2010768;-98.2593665
X-APPLE-STRUCTURED-LOCATION;VALUE=URI;X-ADDRESS=McAllen Convention Center 700 Convention Center Blvd McAllen TX 78501 United States;X-APPLE-RADIUS=500;X-TITLE=700 Convention Center Blvd:geo:-98.2593665,26.2010768
END:VEVENT
BEGIN:VEVENT
DTSTART;TZID=UTC:20260426T090000
DTEND;TZID=UTC:20260427T180000
DTSTAMP:20260419T161134
CREATED:20260318T161714Z
LAST-MODIFIED:20260318T161833Z
UID:49462-1777194000-1777312800@experiencemcallen.com
SUMMARY:South Texas Comic Con 2026 | McAllen Convention Center | April 24–26
DESCRIPTION:South Texas Comic Con Returns to McAllen\nSouth Texas Comic Con returns to the McAllen Convention Center April 24–26\, 2026 featuring celebrity guests\, cosplay\, gaming\, anime\, comics\, and pop culture events. \n  \nThree Days of Pop Culture\, Cosplay\, Gaming\, and Celebrity Guests\nFans of comics\, anime\, gaming\, and pop culture can get ready for one of the largest entertainment conventions in South Texas as South Texas Comic Con returns to the McAllen Convention Center from April 24 through April 26\, 2026. \nThis three-day event brings together thousands of fans from across Texas and the Rio Grande Valley to celebrate everything from comic books and anime to video games\, movies\, television\, and cosplay. \nAttendees can explore an exciting convention floor filled with: \n🎮 Gaming experiences🦸 Celebrity guest appearances🎭 Cosplay contests and meetups🛍 Artist alley and collectible vendors🎤 Panels and fan discussions📸 Photo opportunities with pop culture icons \nSouth Texas Comic Con has become one of the most anticipated fan conventions in the region\, attracting artists\, creators\, cosplayers\, and fans who come together to celebrate their favorite characters and fandoms. \nWhether you’re a longtime comic collector\, anime enthusiast\, gamer\, or simply love pop culture\, this weekend event offers something for fans of all ages. \nEvent: South Texas Comic Con📅 Dates: April 24–26\, 2026 \n📍 Location: McAllen Convention Center \n📍 Address: 700 Convention Center Blvd\, McAllen\, TX \n🌐 More information: https://www.southtexascomiccon.com/ \n 
URL:https://experiencemcallen.com/event/south-texas-comic-con-mcallen-2026/2026-04-26/3/
LOCATION:McAllen Convention Center\, 700 Convention Center Blvd\, McAllen\, TX\, 78501\, United States
CATEGORIES:Conference/Convention,Convention Center,Ticketed
ATTACH;FMTTYPE=image/jpeg:https://experiencemcallen.com/wp-content/uploads/2026/03/1080-X-1080-working-file-40.jpg
GEO:26.2010768;-98.2593665
X-APPLE-STRUCTURED-LOCATION;VALUE=URI;X-ADDRESS=McAllen Convention Center 700 Convention Center Blvd McAllen TX 78501 United States;X-APPLE-RADIUS=500;X-TITLE=700 Convention Center Blvd:geo:-98.2593665,26.2010768
END:VEVENT
END:VCALENDAR