BEGIN:VCALENDAR
VERSION:2.0
PRODID:-//Experience McAllen - ECPv6.15.20//NONSGML v1.0//EN
CALSCALE:GREGORIAN
METHOD:PUBLISH
X-WR-CALNAME:Experience McAllen
X-ORIGINAL-URL:https://experiencemcallen.com
X-WR-CALDESC:Events for Experience McAllen
REFRESH-INTERVAL;VALUE=DURATION:PT1H
X-Robots-Tag:noindex
X-PUBLISHED-TTL:PT1H
BEGIN:VTIMEZONE
TZID:UTC
BEGIN:STANDARD
TZOFFSETFROM:+0000
TZOFFSETTO:+0000
TZNAME:UTC
DTSTART:20250101T000000
END:STANDARD
END:VTIMEZONE
BEGIN:VEVENT
DTSTART;TZID=UTC:20260815T090000
DTEND;TZID=UTC:20260815T180000
DTSTAMP:20260423T123738
CREATED:20220615T175211Z
LAST-MODIFIED:20251229T012640Z
UID:27467-1786784400-1786816800@experiencemcallen.com
SUMMARY:Saxet Gun Show
DESCRIPTION:The Saxet Gun Show in McAllen at the McAllen Convention Center\nSaxet Gun Show is back to the McAllen Convention Center! Experience the best show for hunters to enthusiasts looking for some rare collectibles. Don’t miss out on this show! \nTickets are sold at the door for $8.
URL:https://experiencemcallen.com/event/saxet-gun-show-in-mcallen/2026-08-15/
LOCATION:McAllen Convention Center\, 700 Convention Center Blvd\, McAllen\, TX\, 78501\, United States
CATEGORIES:Conference/Convention,Convention Center,Ticketed
ATTACH;FMTTYPE=image/jpeg:https://experiencemcallen.com/wp-content/uploads/2022/06/Saxet-Gun-show.jpg
GEO:26.2010768;-98.2593665
X-APPLE-STRUCTURED-LOCATION;VALUE=URI;X-ADDRESS=McAllen Convention Center 700 Convention Center Blvd McAllen TX 78501 United States;X-APPLE-RADIUS=500;X-TITLE=700 Convention Center Blvd:geo:-98.2593665,26.2010768
END:VEVENT
BEGIN:VEVENT
DTSTART;TZID=UTC:20260816T090000
DTEND;TZID=UTC:20260816T180000
DTSTAMP:20260423T123738
CREATED:20220615T175211Z
LAST-MODIFIED:20251229T012641Z
UID:27468-1786870800-1786903200@experiencemcallen.com
SUMMARY:Saxet Gun Show
DESCRIPTION:The Saxet Gun Show in McAllen at the McAllen Convention Center\nSaxet Gun Show is back to the McAllen Convention Center! Experience the best show for hunters to enthusiasts looking for some rare collectibles. Don’t miss out on this show! \nTickets are sold at the door for $8.
URL:https://experiencemcallen.com/event/saxet-gun-show-in-mcallen/2026-08-16/
LOCATION:McAllen Convention Center\, 700 Convention Center Blvd\, McAllen\, TX\, 78501\, United States
CATEGORIES:Conference/Convention,Convention Center,Ticketed
ATTACH;FMTTYPE=image/jpeg:https://experiencemcallen.com/wp-content/uploads/2022/06/Saxet-Gun-show.jpg
GEO:26.2010768;-98.2593665
X-APPLE-STRUCTURED-LOCATION;VALUE=URI;X-ADDRESS=McAllen Convention Center 700 Convention Center Blvd McAllen TX 78501 United States;X-APPLE-RADIUS=500;X-TITLE=700 Convention Center Blvd:geo:-98.2593665,26.2010768
END:VEVENT
END:VCALENDAR