BEGIN:VCALENDAR
VERSION:2.0
PRODID:-//Experience McAllen - ECPv6.15.17.1//NONSGML v1.0//EN
CALSCALE:GREGORIAN
METHOD:PUBLISH
X-WR-CALNAME:Experience McAllen
X-ORIGINAL-URL:https://experiencemcallen.com
X-WR-CALDESC:Events for Experience McAllen
REFRESH-INTERVAL;VALUE=DURATION:PT1H
X-Robots-Tag:noindex
X-PUBLISHED-TTL:PT1H
BEGIN:VTIMEZONE
TZID:UTC
BEGIN:STANDARD
TZOFFSETFROM:+0000
TZOFFSETTO:+0000
TZNAME:UTC
DTSTART:20250101T000000
END:STANDARD
END:VTIMEZONE
BEGIN:VEVENT
DTSTART;TZID=UTC:20260206T200000
DTEND;TZID=UTC:20260206T200000
DTSTAMP:20260419T192941
CREATED:20250912T045452Z
LAST-MODIFIED:20260204T002543Z
UID:27158-1770408000-1770408000@experiencemcallen.com
SUMMARY:Star Wars + Four Hands - Valley Symphony Orchestra
DESCRIPTION:Star Wars + Four Hands with Valley Symphony Orchestra\n  \nBuy Tickets \nJourney through iconic film music with Valley Symphony Orchestra’s Star Wars + Four Hands concert on Feb 6\, 2026 at MPAC. \n  \nEmbark on an unforgettable musical journey as the Valley Symphony Orchestra presents Star Wars + Four Hands\, a thrilling symphonic concert blending classical masterworks with iconic film music. \nThe performance takes place on Friday\, February 6\, 2026 at 8:00 PM at the McAllen Performing Arts Center\, offering audiences an immersive evening that spans centuries of musical storytelling—from Beethoven’s dramatic intensity to the cinematic soundscapes of Hollywood. \nA centerpiece of the evening is Piano Concerto No. 2 for Four Hands by Bogdanov\, performed by acclaimed piano soloists Haysun Kang and Christopher Guzman. This dynamic work showcases virtuosic interplay\, rhythmic energy\, and the rare brilliance of a four-hand concerto with full orchestra. \nThe program continues with a rich and entertaining selection of orchestral favorites that celebrate some of the most recognizable themes in music history\, including: \nFeatured Program Highlights\n\n\nBeethoven – Coriolan Overture\, Op. 62 \n\n\nBogdanov – Piano Concerto No. 2 for Four Hands \n\n\nHaysun Kang & Christopher Guzman\, piano soloists \n\n\n\n\nSchifrin / Custer – Mission: Impossible Theme \n\n\nJohn Williams – Theme from Jurassic Park \n\n\nHenry Mancini – Pink Panther Theme \n\n\nJohn Williams – Selections from Star Wars \n\n\nFrom heroic fanfares and suspenseful rhythms to sweeping melodies that defined generations of filmgoers\, Star Wars + Four Hands offers something for classical music lovers\, film-score fans\, and families alike. \nPresented as part of the Maestro’s 25th Anniversary Season\, this concert reflects the Valley Symphony Orchestra’s commitment to innovative programming that bridges classical tradition with popular culture—inviting new audiences to experience the power of live symphonic music. \nJoin us for Star Wars + Four Hands\, where classical brilliance meets cinematic adventure in an evening that promises excitement\, nostalgia\, and a truly galactic sound experience.
URL:https://experiencemcallen.com/event/star-wars-four-hands-valley-symphony-orchestra/
LOCATION:McAllen Performing Arts Center\, 801 Convention Center Boulevard\, McAllen\, TX\, 78501\, United States
CATEGORIES:Concert,Performance,Performing Arts Center,Ticketed
ATTACH;FMTTYPE=image/jpeg:https://experiencemcallen.com/wp-content/uploads/2025/09/1080-X-1080-working-file-32.jpg
GEO:26.198567;-98.258479
X-APPLE-STRUCTURED-LOCATION;VALUE=URI;X-ADDRESS=McAllen Performing Arts Center 801 Convention Center Boulevard McAllen TX 78501 United States;X-APPLE-RADIUS=500;X-TITLE=801 Convention Center Boulevard:geo:-98.258479,26.198567
END:VEVENT
BEGIN:VEVENT
DTSTART;TZID=UTC:20260214T200000
DTEND;TZID=UTC:20260214T200000
DTSTAMP:20260419T192941
CREATED:20251229T005541Z
LAST-MODIFIED:20260205T195036Z
UID:27452-1771099200-1771099200@experiencemcallen.com
SUMMARY:Joe Lopez & Grupo Mazz Live in McAllen | Feb 14
DESCRIPTION:BUY NOW \nCelebrate Valentine’s Day with an unforgettable night of music as Joe Lopez y Grupo Mazz take the stage at the McAllen Performing Arts Center on Friday\, February 14. \nKnown for their legendary influence on Tejano music\, Joe Lopez y Grupo Mazz bring decades of chart-topping hits\, romantic ballads\, and fan-favorite classics that have become the soundtrack of countless love stories. From heartfelt melodies to dance-floor anthems\, this live performance promises an evening filled with passion\, nostalgia\, and timeless music. \nThis special Valentine’s Day concert is the perfect way to celebrate love and friendship\, whether you’re attending with your partner\, friends\, or fellow fans. Set in an intimate\, high-energy concert atmosphere\, audiences can expect powerful vocals\, iconic arrangements\, and the unmistakable sound that made Grupo Mazz a household name. \n📅 Date: Friday\, February 14📍 Venue: McAllen Performing Arts Center \n🎟️ Tickets: Available now via Ticketmaster \n🔞 Please Note: This is an 18+ event \nMake this Valentine’s Day truly memorable with a night of classic Tejano music and live entertainment that continues to unite generations of fans. \nCelebra el Día del Amor y la Amistad con una noche inolvidable de música junto a Joe Lopez y Grupo Mazz\, quienes se presentarán en vivo en el McAllen Performing Arts Center el viernes 14 de febrero. \nReconocidos como íconos de la música tejana\, Joe Lopez y Grupo Mazz han marcado generaciones con sus baladas románticas\, éxitos inolvidables y canciones que siguen siendo parte esencial de muchas historias de amor. Este concierto promete una velada llena de emoción\, recuerdos y música que llega directo al corazón. \nEsta presentación especial es la manera perfecta de celebrar el amor y la amistad\, ya sea en pareja\, con amigos o entre verdaderos amantes de la música. Con un ambiente íntimo y vibrante\, el público podrá disfrutar de una producción de primer nivel\, interpretaciones poderosas y el estilo inconfundible que convirtió a Grupo Mazz en una leyenda. \n📅 Fecha: Viernes 14 de febrero📍 Lugar: McAllen Performing Arts Center \n🎟️ Boletos: A la venta en Ticketmaster \n🔞 Nota: Evento exclusivo para mayores de 18 años \nHaz de este Día de San Valentín una experiencia especial con una noche llena de romance\, música y tradición tejana en vivo.
URL:https://experiencemcallen.com/event/joe-lopez-grupo-mazz-live-in-mcallen-feb-14/
LOCATION:McAllen Performing Arts Center\, 801 Convention Center Boulevard\, McAllen\, TX\, 78501\, United States
CATEGORIES:Concert,Performance,Performing Arts Center,Ticketed
ATTACH;FMTTYPE=image/jpeg:https://experiencemcallen.com/wp-content/uploads/2025/12/1200x1200_14-FEB_Mazz_McAllen-Performing_MCALLEN-copy.jpg
GEO:26.198567;-98.258479
X-APPLE-STRUCTURED-LOCATION;VALUE=URI;X-ADDRESS=McAllen Performing Arts Center 801 Convention Center Boulevard McAllen TX 78501 United States;X-APPLE-RADIUS=500;X-TITLE=801 Convention Center Boulevard:geo:-98.258479,26.198567
END:VEVENT
BEGIN:VEVENT
DTSTART;TZID=UTC:20260215T120000
DTEND;TZID=UTC:20260215T170000
DTSTAMP:20260419T192941
CREATED:20260128T235411Z
LAST-MODIFIED:20260129T134820Z
UID:27672-1771156800-1771174800@experiencemcallen.com
SUMMARY:RGV Wedding & Quince Expo | McAllen TX – Feb 15\, 2026
DESCRIPTION:RGV Wedding & Quince Expo | McAllen TX – Feb 15\, 2026\n  \nEVENT INFO \n  \nPlan your dream wedding or quinceañera at the RGV Wedding & Quince Expo on Feb 15\, 2026 at McAllen Convention Center. Vendors\, ideas & inspiration. \nBrides\, quinceañeras\, and families are invited to plan their perfect celebration at the RGV Wedding & Quince Expo\, taking place on Sunday\, February 15\, 2026 at the McAllen Convention Center. \nThis premier regional expo brings together top wedding and quinceañera professionals from across the Rio Grande Valley\, offering attendees a one-stop destination for inspiration\, planning\, and exclusive vendor access. From elegant bridal gowns and stunning quince dresses to venues\, décor\, photography\, catering\, entertainment\, and more\, the expo is designed to help turn dream celebrations into reality. \nAttendees will have the opportunity to meet directly with experienced vendors\, explore the latest trends\, compare services\, and gather ideas for every detail of their special event. Whether you’re just starting the planning process or finalizing the finishing touches\, the RGV Wedding & Quince Expo offers valuable resources and inspiration for celebrations of all styles and budgets. \nPerfect for brides-to-be\, quinceañeras\, parents\, and families\, this event is one of the most anticipated planning expos of the year in South Texas. \n📅 Date: Sunday\, February 15\, 2026📍 Location: McAllen Convention Center🌐 Website: www.RGVWeddingandQuince.com📞 More Info: (956) 400-4483 \nDon’t miss your chance to connect with the region’s best vendors and start planning a wedding or quinceañera that’s truly unforgettable.
URL:https://experiencemcallen.com/event/rgv-wedding-quince-expo-mcallen/
LOCATION:McAllen Performing Arts Center\, 801 Convention Center Boulevard\, McAllen\, TX\, 78501\, United States
CATEGORIES:Conference/Convention,Convention Center,Featured
ATTACH;FMTTYPE=image/jpeg:https://experiencemcallen.com/wp-content/uploads/2026/01/611580151_1544818320698697_7028435456647516427_n.jpg
GEO:26.198567;-98.258479
X-APPLE-STRUCTURED-LOCATION;VALUE=URI;X-ADDRESS=McAllen Performing Arts Center 801 Convention Center Boulevard McAllen TX 78501 United States;X-APPLE-RADIUS=500;X-TITLE=801 Convention Center Boulevard:geo:-98.258479,26.198567
END:VEVENT
BEGIN:VEVENT
DTSTART;TZID=UTC:20260217T193000
DTEND;TZID=UTC:20260217T193000
DTSTAMP:20260419T192941
CREATED:20260105T143403Z
LAST-MODIFIED:20260105T143404Z
UID:27559-1771356600-1771356600@experiencemcallen.com
SUMMARY:Here Come the Judds Live in McAllen
DESCRIPTION:Here Come the Judds Live in McAllen\nBUY NOW \n  \nCelebrate the music of The Judds with Here Come the Judds live in McAllen. A heartfelt country tribute concert at McAllen Performing Arts Center. \nRelive the timeless music of one of country music’s most beloved duos as Here Come the Judds takes the stage in McAllen for a powerful live tribute concert honoring the legendary songs of The Judds. \nThis acclaimed tribute show captures the heart\, harmony\, and storytelling that made The Judds a cornerstone of country music. Audiences will enjoy faithful renditions of classic hits that defined a generation\, delivered with authenticity\, emotion\, and respect for the original sound that fans know and love. \nFrom chart-topping anthems to heartfelt ballads\, Here Come the Judds celebrates the legacy of The Judds through polished vocals\, rich harmonies\, and engaging stage presence. The performance is designed for longtime fans as well as new listeners discovering this iconic music for the first time. \nSet in the intimate and acoustically rich atmosphere of the McAllen Performing Arts Center\, this concert offers the perfect setting to experience the songs that helped shape country music history. \n\nDon’t miss this special opportunity to experience the spirit\, sound\, and stories of The Judds brought to life on stage in McAllen.
URL:https://experiencemcallen.com/event/here-come-the-judds-live-in-mcallen/
LOCATION:McAllen Performing Arts Center\, 801 Convention Center Boulevard\, McAllen\, TX\, 78501\, United States
CATEGORIES:Concert,Performance,Performing Arts Center,Ticketed
ATTACH;FMTTYPE=image/jpeg:https://experiencemcallen.com/wp-content/uploads/2026/01/the-judds.jpg
GEO:26.198567;-98.258479
X-APPLE-STRUCTURED-LOCATION;VALUE=URI;X-ADDRESS=McAllen Performing Arts Center 801 Convention Center Boulevard McAllen TX 78501 United States;X-APPLE-RADIUS=500;X-TITLE=801 Convention Center Boulevard:geo:-98.258479,26.198567
END:VEVENT
BEGIN:VEVENT
DTSTART;TZID=UTC:20260218T193000
DTEND;TZID=UTC:20260218T193000
DTSTAMP:20260419T192941
CREATED:20250618T160031Z
LAST-MODIFIED:20260122T165743Z
UID:26959-1771443000-1771443000@experiencemcallen.com
SUMMARY:Mrs Doubtfire: The New Musical Comedy FEB. 18
DESCRIPTION:Mrs. Doubtfire in McAllen\nat the McAllen Performing Arts Center\n“A feel-good\, family-friendly musical comedy that delivers.” – The Hollywood Reporter \nEveryone’s favorite Scottish nanny is headed to McAllen in this internationally acclaimed hit musical critics call “wonderful\, heart-warming\, and laugh-out-loud funny” (Manchester Evening News) and “a feel-good\, family-friendly comedy that delivers” (The Hollywood Reporter). Based on the beloved film\, MRS. DOUBTFIRE tells the hysterical and heartfelt story of an out-of-work actor who will do anything for his kids. It’s “the lovable\, big-hearted musical comedy we need right now\,” raves the Chicago Tribune – one that proves we’re better together. \nDon’t miss Mrs Doubtfire: The New Musical Comedy \nRuntime: 2 hours & 30 minutes\, includes a 20 in intermission \nAge recommendation: Recommended for ages 8 and older \nBuy Now \n  \nBroadway In the Rio Grande Valley
URL:https://experiencemcallen.com/event/mrs-doubtfire-the-new-musical-comedy/
LOCATION:McAllen Performing Arts Center\, 801 Convention Center Boulevard\, McAllen\, TX\, 78501\, United States
CATEGORIES:Performance,Performing Arts Center
ATTACH;FMTTYPE=image/jpeg:https://experiencemcallen.com/wp-content/uploads/2025/06/MCA_Doubtfire_1600x700-1024x1535-1-1.jpg
GEO:26.198567;-98.258479
X-APPLE-STRUCTURED-LOCATION;VALUE=URI;X-ADDRESS=McAllen Performing Arts Center 801 Convention Center Boulevard McAllen TX 78501 United States;X-APPLE-RADIUS=500;X-TITLE=801 Convention Center Boulevard:geo:-98.258479,26.198567
END:VEVENT
BEGIN:VEVENT
DTSTART;TZID=UTC:20260219T193000
DTEND;TZID=UTC:20260219T193000
DTSTAMP:20260419T192941
CREATED:20260114T155339Z
LAST-MODIFIED:20260114T155339Z
UID:27599-1771529400-1771529400@experiencemcallen.com
SUMMARY:McAllen Wind Ensemble Presents British Invasion
DESCRIPTION:McAllen Wind Ensemble Presents British Invasion\nReserve Free Tickets Here \nThe McAllen Wind Ensemble presents British Invasion live in McAllen on Feb 19\, 2026. Concert underwritten by the McAllen Performing & Cultural Arts Foundation. \n  \nTravel across the Atlantic through sound as the McAllen Wind Ensemble presents British Invasion\, a dynamic concert celebrating the music and cultural influence of Great Britain\, on Thursday\, February 19\, 2026 at 7:30 PM. \nPresented at the McAllen Performing Arts Center\, this engaging program showcases the power and versatility of the wind ensemble through a curated selection of music inspired by Britain’s rich musical legacy. Audiences can expect a sophisticated and immersive evening that blends classical tradition with recognizable themes and bold orchestral color. \nBritish Invasion is a celebration of musical storytelling\, performed by one of the Rio Grande Valley’s premier community ensembles. With polished musicianship and expressive performances\, the McAllen Wind Ensemble continues its mission of bringing high-quality symphonic music to the community in an accessible and inspiring setting. \nThis concert is underwritten by the McAllen Performing & Cultural Arts Foundation\, whose support helps expand access to arts education and live performances in the region. Their commitment plays a vital role in sustaining cultural programming and enriching the artistic life of McAllen. \nLobby doors open at 6:30 PM\, with the concert beginning promptly at 7:30 PM. \n📅 Date: Thursday\, February 19\, 2026⏰ Time: 7:30 PM (Lobby opens at 6:30 PM)\n \nJoin us for an elegant and engaging evening that highlights the enduring influence of British music through the expressive power of the wind ensemble.
URL:https://experiencemcallen.com/event/british-invasion-concert-mcallen-wind-ensemble/
LOCATION:McAllen Performing Arts Center\, 801 Convention Center Boulevard\, McAllen\, TX\, 78501\, United States
CATEGORIES:Concert,Performance,Performing Arts Center
ATTACH;FMTTYPE=image/png:https://experiencemcallen.com/wp-content/uploads/2026/01/900-x-900-px-British-Invasion-.png
GEO:26.198567;-98.258479
X-APPLE-STRUCTURED-LOCATION;VALUE=URI;X-ADDRESS=McAllen Performing Arts Center 801 Convention Center Boulevard McAllen TX 78501 United States;X-APPLE-RADIUS=500;X-TITLE=801 Convention Center Boulevard:geo:-98.258479,26.198567
END:VEVENT
BEGIN:VEVENT
DTSTART;TZID=UTC:20260221T090000
DTEND;TZID=UTC:20260221T180000
DTSTAMP:20260419T192941
CREATED:20220615T175211Z
LAST-MODIFIED:20251229T012638Z
UID:27463-1771664400-1771696800@experiencemcallen.com
SUMMARY:Saxet Gun Show
DESCRIPTION:The Saxet Gun Show in McAllen at the McAllen Convention Center\nSaxet Gun Show is back to the McAllen Convention Center! Experience the best show for hunters to enthusiasts looking for some rare collectibles. Don’t miss out on this show! \nTickets are sold at the door for $8.
URL:https://experiencemcallen.com/event/saxet-gun-show-in-mcallen/2026-02-21/
LOCATION:McAllen Convention Center\, 700 Convention Center Blvd\, McAllen\, TX\, 78501\, United States
CATEGORIES:Conference/Convention,Convention Center,Ticketed
ATTACH;FMTTYPE=image/jpeg:https://experiencemcallen.com/wp-content/uploads/2022/06/Saxet-Gun-show.jpg
GEO:26.2010768;-98.2593665
X-APPLE-STRUCTURED-LOCATION;VALUE=URI;X-ADDRESS=McAllen Convention Center 700 Convention Center Blvd McAllen TX 78501 United States;X-APPLE-RADIUS=500;X-TITLE=700 Convention Center Blvd:geo:-98.2593665,26.2010768
END:VEVENT
BEGIN:VEVENT
DTSTART;TZID=UTC:20260221T190000
DTEND;TZID=UTC:20260221T190000
DTSTAMP:20260419T192941
CREATED:20231216T145932Z
LAST-MODIFIED:20250823T164857Z
UID:22801-1771700400-1771700400@experiencemcallen.com
SUMMARY:Shen Yun
DESCRIPTION:Shen Yun in McAllen at McAllen Performing Arts Center\nFeb. 21: https://www.ticketmaster.com/shen-yun-saturday-700-pm-mcallen-texas-02-21-2026/event/3A006312E3223F36 \nFeb. 22: https://www.ticketmaster.com/shen-yun-sunday-200-pm-mcallen-texas-02-22-2026/event/3A006312E1F93EE8
URL:https://experiencemcallen.com/event/shen-yun-in-mcallen/2026-02-21/
LOCATION:McAllen Performing Arts Center\, 801 Convention Center Boulevard\, McAllen\, TX\, 78501\, United States
CATEGORIES:Performance,Performing Arts Center,Ticketed
ATTACH;FMTTYPE=image/jpeg:https://experiencemcallen.com/wp-content/uploads/2023/12/900X900-1.jpg
GEO:26.198567;-98.258479
X-APPLE-STRUCTURED-LOCATION;VALUE=URI;X-ADDRESS=McAllen Performing Arts Center 801 Convention Center Boulevard McAllen TX 78501 United States;X-APPLE-RADIUS=500;X-TITLE=801 Convention Center Boulevard:geo:-98.258479,26.198567
END:VEVENT
BEGIN:VEVENT
DTSTART;TZID=UTC:20260222T090000
DTEND;TZID=UTC:20260222T180000
DTSTAMP:20260419T192941
CREATED:20220615T175211Z
LAST-MODIFIED:20251229T012639Z
UID:27464-1771750800-1771783200@experiencemcallen.com
SUMMARY:Saxet Gun Show
DESCRIPTION:The Saxet Gun Show in McAllen at the McAllen Convention Center\nSaxet Gun Show is back to the McAllen Convention Center! Experience the best show for hunters to enthusiasts looking for some rare collectibles. Don’t miss out on this show! \nTickets are sold at the door for $8.
URL:https://experiencemcallen.com/event/saxet-gun-show-in-mcallen/2026-02-22/
LOCATION:McAllen Convention Center\, 700 Convention Center Blvd\, McAllen\, TX\, 78501\, United States
CATEGORIES:Conference/Convention,Convention Center,Ticketed
ATTACH;FMTTYPE=image/jpeg:https://experiencemcallen.com/wp-content/uploads/2022/06/Saxet-Gun-show.jpg
GEO:26.2010768;-98.2593665
X-APPLE-STRUCTURED-LOCATION;VALUE=URI;X-ADDRESS=McAllen Convention Center 700 Convention Center Blvd McAllen TX 78501 United States;X-APPLE-RADIUS=500;X-TITLE=700 Convention Center Blvd:geo:-98.2593665,26.2010768
END:VEVENT
BEGIN:VEVENT
DTSTART;TZID=UTC:20260222T140000
DTEND;TZID=UTC:20260222T140000
DTSTAMP:20260419T192941
CREATED:20231216T145932Z
LAST-MODIFIED:20250823T164858Z
UID:27121-1771768800-1771768800@experiencemcallen.com
SUMMARY:Shen Yun
DESCRIPTION:Shen Yun in McAllen at McAllen Performing Arts Center\nFeb. 21: https://www.ticketmaster.com/shen-yun-saturday-700-pm-mcallen-texas-02-21-2026/event/3A006312E3223F36 \nFeb. 22: https://www.ticketmaster.com/shen-yun-sunday-200-pm-mcallen-texas-02-22-2026/event/3A006312E1F93EE8
URL:https://experiencemcallen.com/event/shen-yun-in-mcallen/2026-02-22/
LOCATION:McAllen Performing Arts Center\, 801 Convention Center Boulevard\, McAllen\, TX\, 78501\, United States
CATEGORIES:Performance,Performing Arts Center,Ticketed
ATTACH;FMTTYPE=image/jpeg:https://experiencemcallen.com/wp-content/uploads/2023/12/900X900-1.jpg
GEO:26.198567;-98.258479
X-APPLE-STRUCTURED-LOCATION;VALUE=URI;X-ADDRESS=McAllen Performing Arts Center 801 Convention Center Boulevard McAllen TX 78501 United States;X-APPLE-RADIUS=500;X-TITLE=801 Convention Center Boulevard:geo:-98.258479,26.198567
END:VEVENT
BEGIN:VEVENT
DTSTART;TZID=UTC:20260224T190000
DTEND;TZID=UTC:20260224T190000
DTSTAMP:20260419T192941
CREATED:20251002T151153Z
LAST-MODIFIED:20251002T151329Z
UID:27190-1771959600-1771959600@experiencemcallen.com
SUMMARY:The Thorn
DESCRIPTION:The Thorn has been described as Cirque meets ‘The Passion’” thanks to its compelling mix of drama\, music\, dance\, martial arts\, aerial acrobatics\, emotionally evocative performances\, and timeless spiritual perspectives.
URL:https://experiencemcallen.com/event/the-thorn/2026-02-24/
LOCATION:McAllen Performing Arts Center\, 801 Convention Center Boulevard\, McAllen\, TX\, 78501\, United States
CATEGORIES:Performing Arts Center,Ticketed
ATTACH;FMTTYPE=image/jpeg:https://experiencemcallen.com/wp-content/uploads/2025/10/TheThorn_MCATX_900x900.jpg
GEO:26.198567;-98.258479
X-APPLE-STRUCTURED-LOCATION;VALUE=URI;X-ADDRESS=McAllen Performing Arts Center 801 Convention Center Boulevard McAllen TX 78501 United States;X-APPLE-RADIUS=500;X-TITLE=801 Convention Center Boulevard:geo:-98.258479,26.198567
END:VEVENT
BEGIN:VEVENT
DTSTART;TZID=UTC:20260225T190000
DTEND;TZID=UTC:20260225T190000
DTSTAMP:20260419T192941
CREATED:20251002T151153Z
LAST-MODIFIED:20251002T151330Z
UID:27193-1772046000-1772046000@experiencemcallen.com
SUMMARY:The Thorn
DESCRIPTION:The Thorn has been described as Cirque meets ‘The Passion’” thanks to its compelling mix of drama\, music\, dance\, martial arts\, aerial acrobatics\, emotionally evocative performances\, and timeless spiritual perspectives.
URL:https://experiencemcallen.com/event/the-thorn/2026-02-25/
LOCATION:McAllen Performing Arts Center\, 801 Convention Center Boulevard\, McAllen\, TX\, 78501\, United States
CATEGORIES:Performing Arts Center,Ticketed
ATTACH;FMTTYPE=image/jpeg:https://experiencemcallen.com/wp-content/uploads/2025/10/TheThorn_MCATX_900x900.jpg
GEO:26.198567;-98.258479
X-APPLE-STRUCTURED-LOCATION;VALUE=URI;X-ADDRESS=McAllen Performing Arts Center 801 Convention Center Boulevard McAllen TX 78501 United States;X-APPLE-RADIUS=500;X-TITLE=801 Convention Center Boulevard:geo:-98.258479,26.198567
END:VEVENT
BEGIN:VEVENT
DTSTART;TZID=UTC:20260226T193000
DTEND;TZID=UTC:20260226T193000
DTSTAMP:20260419T192941
CREATED:20260102T202931Z
LAST-MODIFIED:20260102T203123Z
UID:27549-1772134200-1772134200@experiencemcallen.com
SUMMARY:GQ Gentlemen’s Quartet Live in McAllen | Vocal Quartet
DESCRIPTION:GQ Gentlemen’s Quartet Live in McAllen | Feb 26 \nExperience an evening of powerful vocals\, musical versatility\, and electrifying performance as GQ Gentlemen’s Quartet takes the stage in McAllen. \nKnown for redefining the modern vocal quartet\, GQ blends classical crossover\, contemporary pop\, Broadway favorites\, and timeless standards into a high-energy concert experience that captivates audiences of all ages. With flawless harmonies\, engaging stage presence\, and fresh arrangements\, GQ delivers a show that is both sophisticated and exciting. \nThis performance showcases the quartet’s ability to seamlessly cross musical genres while maintaining a polished and entertaining style. From dramatic classical selections to upbeat modern favorites\, the concert offers something for longtime classical fans and new audiences alike. \nHosted at the McAllen Performing Arts Center\, this event provides the perfect setting to enjoy a world-class vocal performance in an intimate and acoustically rich environment. Whether you are a fan of vocal music\, contemporary crossover\, or live performance artistry\, GQ Gentlemen’s Quartet promises an unforgettable night.
URL:https://experiencemcallen.com/event/gq-gentlemens-quartet-live-in-mcallen-vocal-quartet/
LOCATION:McAllen Performing Arts Center\, 801 Convention Center Boulevard\, McAllen\, TX\, 78501\, United States
CATEGORIES:Concert,Performance,Performing Arts Center,Ticketed
ATTACH;FMTTYPE=image/jpeg:https://experiencemcallen.com/wp-content/uploads/2026/01/GQ-1.jpg
GEO:26.198567;-98.258479
X-APPLE-STRUCTURED-LOCATION;VALUE=URI;X-ADDRESS=McAllen Performing Arts Center 801 Convention Center Boulevard McAllen TX 78501 United States;X-APPLE-RADIUS=500;X-TITLE=801 Convention Center Boulevard:geo:-98.258479,26.198567
END:VEVENT
END:VCALENDAR