BEGIN:VCALENDAR
VERSION:2.0
PRODID:-//Experience McAllen - ECPv6.15.17.1//NONSGML v1.0//EN
CALSCALE:GREGORIAN
METHOD:PUBLISH
X-ORIGINAL-URL:https://experiencemcallen.com
X-WR-CALDESC:Events for Experience McAllen
REFRESH-INTERVAL;VALUE=DURATION:PT1H
X-Robots-Tag:noindex
X-PUBLISHED-TTL:PT1H
BEGIN:VTIMEZONE
TZID:UTC
BEGIN:STANDARD
TZOFFSETFROM:+0000
TZOFFSETTO:+0000
TZNAME:UTC
DTSTART:20240101T000000
END:STANDARD
END:VTIMEZONE
BEGIN:VEVENT
DTSTART;TZID=UTC:20250701T180000
DTEND;TZID=UTC:20250701T180000
DTSTAMP:20260420T075643
CREATED:20250624T170728Z
LAST-MODIFIED:20250626T170749Z
UID:26985-1751392800-1751392800@experiencemcallen.com
SUMMARY:Broadway in The RGV Season Premiere Event
DESCRIPTION:Fans Are Invited to View and Select Their Seats for the 2025-2026 Season\nMcAllen\, Texas – The McAllen Performing & Cultural Arts Foundation and the McAllen Performing Arts Center invite members of the media and Broadway fans across the Rio Grande Valley to the Broadway Season Premiere: Select Your Seat Event\, taking place on Tuesday\, July 1\, 2025\, at 6:00 p.m. at the McAllen Performing Arts Center. \nThis exclusive evening will give guests an early opportunity to experience the magic of Broadway before the curtain rises. Attendees will enjoy: \nPremium access to select  and purchase season seats\nPersonalized seating assistance\nA red carpet reception\nA celebratory toast to the 2025–2026 Broadway season \n2025–2026 Broadway in the RGV Season Lineup:\nThe Addams Family – September 7\, 2025\nTINA – The Tina Turner Musical – December 10\, 2025\nMrs. Doubtfire – February 18\, 2026\nClue Live on Stage! – May 5\, 2026\nHadestown – June 3\, 2026 \nPresented by Nederlander National Markets and driven by Lexus\, the Broadway in the Rio Grande Valley series continues its commitment to bringing world-class theatrical experiences to South Texas.\nThis event is free and open to current and prospective subscribers. \nAttendees are asked to please RSVP by scanning the QR code or visiting https://form.jotform.com/241166509924157
URL:https://experiencemcallen.com/event/broadway-in-the-rgv-season-premiere-event/
LOCATION:McAllen Performing Arts Center\, 801 Convention Center Boulevard\, McAllen\, TX\, 78501\, United States
CATEGORIES:Performance,Performing Arts Center,Ticketed
ATTACH;FMTTYPE=image/jpeg:https://experiencemcallen.com/wp-content/uploads/2025/06/mcallen-broadway-seasion-2025-seat-event-1x1-1.jpg
GEO:26.198567;-98.258479
X-APPLE-STRUCTURED-LOCATION;VALUE=URI;X-ADDRESS=McAllen Performing Arts Center 801 Convention Center Boulevard McAllen TX 78501 United States;X-APPLE-RADIUS=500;X-TITLE=801 Convention Center Boulevard:geo:-98.258479,26.198567
END:VEVENT
BEGIN:VEVENT
DTSTART;TZID=UTC:20250710T193000
DTEND;TZID=UTC:20250710T223000
DTSTAMP:20260420T075643
CREATED:20250410T212703Z
LAST-MODIFIED:20250415T170435Z
UID:26652-1752175800-1752186600@experiencemcallen.com
SUMMARY:The Marías – Submarine Tour
DESCRIPTION:The Marias in McAllen Texas at the McAllen Convention Center\nThe Marías are bringing the Submarine Tour (Extended) to McAllen Convention Center on July 10 AND 11 with special guest julie. \nGeneral Admission – Standing Only Area \nJuly 10th: https://www.ticketmaster.com/event/3A006289B1073315 \nJuly 11th: https://www.ticketmaster.com/event/3A00628ED88531AC \nView More Events or Leave Us A Review
URL:https://experiencemcallen.com/event/the-marias-in-mcallen/2025-07-10/
LOCATION:McAllen Convention Center\, 700 Convention Center Blvd\, McAllen\, TX\, 78501\, United States
CATEGORIES:Concert,Performing Arts Center,Ticketed
ATTACH;FMTTYPE=image/jpeg:https://experiencemcallen.com/wp-content/uploads/2025/04/Static_Social-Instagram_1080x1080_TheMarias_2025_Regional_McAllenConventionCenter_0710-0711.jpg
GEO:26.2010768;-98.2593665
X-APPLE-STRUCTURED-LOCATION;VALUE=URI;X-ADDRESS=McAllen Convention Center 700 Convention Center Blvd McAllen TX 78501 United States;X-APPLE-RADIUS=500;X-TITLE=700 Convention Center Blvd:geo:-98.2593665,26.2010768
END:VEVENT
BEGIN:VEVENT
DTSTART;TZID=UTC:20250711T193000
DTEND;TZID=UTC:20250711T223000
DTSTAMP:20260420T075643
CREATED:20250410T212703Z
LAST-MODIFIED:20250410T212703Z
UID:26685-1752262200-1752273000@experiencemcallen.com
SUMMARY:The Marías – Submarine Tour
DESCRIPTION:The Marias in McAllen Texas at the McAllen Convention Center\nThe Marías are bringing the Submarine Tour (Extended) to McAllen Convention Center on July 10 AND 11 with special guest julie. \nGeneral Admission – Standing Only Area \nJuly 10th: https://www.ticketmaster.com/event/3A006289B1073315 \nJuly 11th: https://www.ticketmaster.com/event/3A00628ED88531AC \nView More Events or Leave Us A Review
URL:https://experiencemcallen.com/event/the-marias-in-mcallen/2025-07-11/
LOCATION:McAllen Convention Center\, 700 Convention Center Blvd\, McAllen\, TX\, 78501\, United States
CATEGORIES:Concert,Performing Arts Center,Ticketed
ATTACH;FMTTYPE=image/jpeg:https://experiencemcallen.com/wp-content/uploads/2025/04/Static_Social-Instagram_1080x1080_TheMarias_2025_Regional_McAllenConventionCenter_0710-0711.jpg
GEO:26.2010768;-98.2593665
X-APPLE-STRUCTURED-LOCATION;VALUE=URI;X-ADDRESS=McAllen Convention Center 700 Convention Center Blvd McAllen TX 78501 United States;X-APPLE-RADIUS=500;X-TITLE=700 Convention Center Blvd:geo:-98.2593665,26.2010768
END:VEVENT
BEGIN:VEVENT
DTSTART;TZID=UTC:20250718T170000
DTEND;TZID=UTC:20250718T220000
DTSTAMP:20260420T075643
CREATED:20220615T170822Z
LAST-MODIFIED:20250715T014739Z
UID:21178-1752858000-1752876000@experiencemcallen.com
SUMMARY:Texas Hunters and Sportmans Expo
DESCRIPTION:
URL:https://experiencemcallen.com/event/texas-hunters-and-sportmans-expo/2025-07-18/
LOCATION:McAllen Convention Center\, 700 Convention Center Blvd\, McAllen\, TX\, 78501\, United States
CATEGORIES:Conference/Convention,Convention Center,Ticketed
ATTACH;FMTTYPE=image/jpeg:https://experiencemcallen.com/wp-content/uploads/2022/06/savethedate-2025.jpg
GEO:26.2010768;-98.2593665
X-APPLE-STRUCTURED-LOCATION;VALUE=URI;X-ADDRESS=McAllen Convention Center 700 Convention Center Blvd McAllen TX 78501 United States;X-APPLE-RADIUS=500;X-TITLE=700 Convention Center Blvd:geo:-98.2593665,26.2010768
END:VEVENT
BEGIN:VEVENT
DTSTART;TZID=UTC:20250719T100000
DTEND;TZID=UTC:20250719T190000
DTSTAMP:20260420T075643
CREATED:20220615T170822Z
LAST-MODIFIED:20250715T014739Z
UID:26902-1752919200-1752951600@experiencemcallen.com
SUMMARY:Texas Hunters and Sportmans Expo
DESCRIPTION:
URL:https://experiencemcallen.com/event/texas-hunters-and-sportmans-expo/2025-07-19/
LOCATION:McAllen Convention Center\, 700 Convention Center Blvd\, McAllen\, TX\, 78501\, United States
CATEGORIES:Conference/Convention,Convention Center,Ticketed
ATTACH;FMTTYPE=image/jpeg:https://experiencemcallen.com/wp-content/uploads/2022/06/savethedate-2025.jpg
GEO:26.2010768;-98.2593665
X-APPLE-STRUCTURED-LOCATION;VALUE=URI;X-ADDRESS=McAllen Convention Center 700 Convention Center Blvd McAllen TX 78501 United States;X-APPLE-RADIUS=500;X-TITLE=700 Convention Center Blvd:geo:-98.2593665,26.2010768
END:VEVENT
BEGIN:VEVENT
DTSTART;TZID=UTC:20250720T110000
DTEND;TZID=UTC:20250720T180000
DTSTAMP:20260420T075643
CREATED:20220615T170822Z
LAST-MODIFIED:20250715T014740Z
UID:26903-1753009200-1753034400@experiencemcallen.com
SUMMARY:Texas Hunters and Sportmans Expo
DESCRIPTION:
URL:https://experiencemcallen.com/event/texas-hunters-and-sportmans-expo/2025-07-20/
LOCATION:McAllen Convention Center\, 700 Convention Center Blvd\, McAllen\, TX\, 78501\, United States
CATEGORIES:Conference/Convention,Convention Center,Ticketed
ATTACH;FMTTYPE=image/jpeg:https://experiencemcallen.com/wp-content/uploads/2022/06/savethedate-2025.jpg
GEO:26.2010768;-98.2593665
X-APPLE-STRUCTURED-LOCATION;VALUE=URI;X-ADDRESS=McAllen Convention Center 700 Convention Center Blvd McAllen TX 78501 United States;X-APPLE-RADIUS=500;X-TITLE=700 Convention Center Blvd:geo:-98.2593665,26.2010768
END:VEVENT
END:VCALENDAR