BEGIN:VCALENDAR
VERSION:2.0
PRODID:-//Experience McAllen - ECPv6.15.17.1//NONSGML v1.0//EN
CALSCALE:GREGORIAN
METHOD:PUBLISH
X-ORIGINAL-URL:https://experiencemcallen.com
X-WR-CALDESC:Events for Experience McAllen
REFRESH-INTERVAL;VALUE=DURATION:PT1H
X-Robots-Tag:noindex
X-PUBLISHED-TTL:PT1H
BEGIN:VTIMEZONE
TZID:UTC
BEGIN:STANDARD
TZOFFSETFROM:+0000
TZOFFSETTO:+0000
TZNAME:UTC
DTSTART:20240101T000000
END:STANDARD
END:VTIMEZONE
BEGIN:VEVENT
DTSTART;TZID=UTC:20250612T183000
DTEND;TZID=UTC:20250612T183000
DTSTAMP:20260420T093759
CREATED:20250608T154512Z
LAST-MODIFIED:20250608T155644Z
UID:26871-1749753000-1749753000@experiencemcallen.com
SUMMARY:Taste McAllen 2025
DESCRIPTION:The Rio Grande Valley’s premier culinary celebration — featuring tastings from 25 top restaurants\, live music\, an artisan marketplace\, and curated cocktail and wine experiences.
URL:https://experiencemcallen.com/event/taste-mcallen-2025/
LOCATION:McAllen Convention Center\, 700 Convention Center Blvd\, McAllen\, TX\, 78501\, United States
CATEGORIES:Conference/Convention,Convention Center,Ticketed
ATTACH;FMTTYPE=image/jpeg:https://experiencemcallen.com/wp-content/uploads/2025/06/TASTE-McAllen_updated-flyer2025-1920x2399.jpg.jpg
GEO:26.2010768;-98.2593665
X-APPLE-STRUCTURED-LOCATION;VALUE=URI;X-ADDRESS=McAllen Convention Center 700 Convention Center Blvd McAllen TX 78501 United States;X-APPLE-RADIUS=500;X-TITLE=700 Convention Center Blvd:geo:-98.2593665,26.2010768
END:VEVENT
BEGIN:VEVENT
DTSTART;TZID=UTC:20250614T180000
DTEND;TZID=UTC:20250614T220000
DTSTAMP:20260420T093759
CREATED:20250608T154929Z
LAST-MODIFIED:20250608T155735Z
UID:26875-1749924000-1749938400@experiencemcallen.com
SUMMARY:Sunset Live
DESCRIPTION:
URL:https://experiencemcallen.com/event/sunset-live/
LOCATION:McAllen Performing Arts Center\, 801 Convention Center Boulevard\, McAllen\, TX\, 78501\, United States
CATEGORIES:Concert,Oval Park
ATTACH;FMTTYPE=image/jpeg:https://experiencemcallen.com/wp-content/uploads/2025/06/MCC-SL25-Jun-1080x1080-1.jpg
GEO:26.198567;-98.258479
X-APPLE-STRUCTURED-LOCATION;VALUE=URI;X-ADDRESS=McAllen Performing Arts Center 801 Convention Center Boulevard McAllen TX 78501 United States;X-APPLE-RADIUS=500;X-TITLE=801 Convention Center Boulevard:geo:-98.258479,26.198567
END:VEVENT
BEGIN:VEVENT
DTSTART;TZID=UTC:20250614T200000
DTEND;TZID=UTC:20250614T200000
DTSTAMP:20260420T093759
CREATED:20230202T174850Z
LAST-MODIFIED:20250611T150410Z
UID:21866-1749931200-1749931200@experiencemcallen.com
SUMMARY:Brincos Dieras
DESCRIPTION:Brincos Dieras in McAllen at the McAllen Performing Arts Center \nJune 14: https://www.ticketmaster.com/brincos-dieras-mcallen-texas-06-14-2025/event/3A006255C5865469\nJune 15: https://www.ticketmaster.com/event/3A00629CD5C33C74
URL:https://experiencemcallen.com/event/brincos-dieras-2025/2025-06-14/
LOCATION:McAllen Performing Arts Center\, 801 Convention Center Boulevard\, McAllen\, TX\, 78501\, United States
CATEGORIES:Performance,Performing Arts Center,Ticketed
ATTACH;FMTTYPE=image/jpeg:https://experiencemcallen.com/wp-content/uploads/2023/02/11-Editable-Flyer-Brincos-1080-x-1080.jpg
GEO:26.198567;-98.258479
X-APPLE-STRUCTURED-LOCATION;VALUE=URI;X-ADDRESS=McAllen Performing Arts Center 801 Convention Center Boulevard McAllen TX 78501 United States;X-APPLE-RADIUS=500;X-TITLE=801 Convention Center Boulevard:geo:-98.258479,26.198567
END:VEVENT
BEGIN:VEVENT
DTSTART;TZID=UTC:20250615T200000
DTEND;TZID=UTC:20250615T200000
DTSTAMP:20260420T093759
CREATED:20230202T174850Z
LAST-MODIFIED:20250611T150411Z
UID:26880-1750017600-1750017600@experiencemcallen.com
SUMMARY:Brincos Dieras
DESCRIPTION:Brincos Dieras in McAllen at the McAllen Performing Arts Center \nJune 14: https://www.ticketmaster.com/brincos-dieras-mcallen-texas-06-14-2025/event/3A006255C5865469\nJune 15: https://www.ticketmaster.com/event/3A00629CD5C33C74
URL:https://experiencemcallen.com/event/brincos-dieras-2025/2025-06-15/
LOCATION:McAllen Performing Arts Center\, 801 Convention Center Boulevard\, McAllen\, TX\, 78501\, United States
CATEGORIES:Performance,Performing Arts Center,Ticketed
ATTACH;FMTTYPE=image/jpeg:https://experiencemcallen.com/wp-content/uploads/2023/02/11-Editable-Flyer-Brincos-1080-x-1080.jpg
GEO:26.198567;-98.258479
X-APPLE-STRUCTURED-LOCATION;VALUE=URI;X-ADDRESS=McAllen Performing Arts Center 801 Convention Center Boulevard McAllen TX 78501 United States;X-APPLE-RADIUS=500;X-TITLE=801 Convention Center Boulevard:geo:-98.258479,26.198567
END:VEVENT
BEGIN:VEVENT
DTSTART;TZID=UTC:20250621T100000
DTEND;TZID=UTC:20250621T160000
DTSTAMP:20260420T093759
CREATED:20250608T160250Z
LAST-MODIFIED:20250619T145937Z
UID:26881-1750500000-1750521600@experiencemcallen.com
SUMMARY:HomeBuyer's Fair
DESCRIPTION:
URL:https://experiencemcallen.com/event/homebuyers-fair/
LOCATION:McAllen Performing Arts Center\, 801 Convention Center Boulevard\, McAllen\, TX\, 78501\, United States
CATEGORIES:Conference/Convention,Convention Center
ATTACH;FMTTYPE=image/jpeg:https://experiencemcallen.com/wp-content/uploads/2025/06/new-feed-dimentions-1.jpg
GEO:26.198567;-98.258479
X-APPLE-STRUCTURED-LOCATION;VALUE=URI;X-ADDRESS=McAllen Performing Arts Center 801 Convention Center Boulevard McAllen TX 78501 United States;X-APPLE-RADIUS=500;X-TITLE=801 Convention Center Boulevard:geo:-98.258479,26.198567
END:VEVENT
BEGIN:VEVENT
DTSTART;TZID=UTC:20250628T183000
DTEND;TZID=UTC:20250628T183000
DTSTAMP:20260420T093759
CREATED:20250608T160546Z
LAST-MODIFIED:20250608T160547Z
UID:26885-1751135400-1751135400@experiencemcallen.com
SUMMARY:Mariachi Sol de Mexico
DESCRIPTION:
URL:https://experiencemcallen.com/event/mariachi-sol-de-mexico/
LOCATION:McAllen Performing Arts Center\, 801 Convention Center Boulevard\, McAllen\, TX\, 78501\, United States
CATEGORIES:Concert,Performing Arts Center,Ticketed
ATTACH;FMTTYPE=image/jpeg:https://experiencemcallen.com/wp-content/uploads/2025/06/grand-concert.jpg
GEO:26.198567;-98.258479
X-APPLE-STRUCTURED-LOCATION;VALUE=URI;X-ADDRESS=McAllen Performing Arts Center 801 Convention Center Boulevard McAllen TX 78501 United States;X-APPLE-RADIUS=500;X-TITLE=801 Convention Center Boulevard:geo:-98.258479,26.198567
END:VEVENT
BEGIN:VEVENT
DTSTART;TZID=UTC:20250629T120000
DTEND;TZID=UTC:20250629T180000
DTSTAMP:20260420T093759
CREATED:20250608T160835Z
LAST-MODIFIED:20250608T160906Z
UID:26888-1751198400-1751220000@experiencemcallen.com
SUMMARY:PokeFest 2025
DESCRIPTION:
URL:https://experiencemcallen.com/event/pokefest-2025/
LOCATION:McAllen Performing Arts Center\, 801 Convention Center Boulevard\, McAllen\, TX\, 78501\, United States
CATEGORIES:Conference/Convention,Convention Center,Ticketed
ATTACH;FMTTYPE=image/jpeg:https://experiencemcallen.com/wp-content/uploads/2025/06/new-feed-dimentions-2.jpg
GEO:26.198567;-98.258479
X-APPLE-STRUCTURED-LOCATION;VALUE=URI;X-ADDRESS=McAllen Performing Arts Center 801 Convention Center Boulevard McAllen TX 78501 United States;X-APPLE-RADIUS=500;X-TITLE=801 Convention Center Boulevard:geo:-98.258479,26.198567
END:VEVENT
END:VCALENDAR