BEGIN:VCALENDAR
VERSION:2.0
PRODID:-//Experience McAllen - ECPv6.15.17.1//NONSGML v1.0//EN
CALSCALE:GREGORIAN
METHOD:PUBLISH
X-ORIGINAL-URL:https://experiencemcallen.com
X-WR-CALDESC:Events for Experience McAllen
REFRESH-INTERVAL;VALUE=DURATION:PT1H
X-Robots-Tag:noindex
X-PUBLISHED-TTL:PT1H
BEGIN:VTIMEZONE
TZID:UTC
BEGIN:STANDARD
TZOFFSETFROM:+0000
TZOFFSETTO:+0000
TZNAME:UTC
DTSTART:20240101T000000
END:STANDARD
END:VTIMEZONE
BEGIN:VEVENT
DTSTART;TZID=UTC:20250315T090000
DTEND;TZID=UTC:20250315T180000
DTSTAMP:20260420T150200
CREATED:20220615T175211Z
LAST-MODIFIED:20251229T012628Z
UID:26535-1742029200-1742061600@experiencemcallen.com
SUMMARY:Saxet Gun Show
DESCRIPTION:The Saxet Gun Show in McAllen at the McAllen Convention Center\nSaxet Gun Show is back to the McAllen Convention Center! Experience the best show for hunters to enthusiasts looking for some rare collectibles. Don’t miss out on this show! \nTickets are sold at the door for $8.
URL:https://experiencemcallen.com/event/saxet-gun-show-in-mcallen/2025-03-15/
LOCATION:McAllen Convention Center\, 700 Convention Center Blvd\, McAllen\, TX\, 78501\, United States
CATEGORIES:Conference/Convention,Convention Center,Ticketed
ATTACH;FMTTYPE=image/jpeg:https://experiencemcallen.com/wp-content/uploads/2022/06/Saxet-Gun-show.jpg
GEO:26.2010768;-98.2593665
X-APPLE-STRUCTURED-LOCATION;VALUE=URI;X-ADDRESS=McAllen Convention Center 700 Convention Center Blvd McAllen TX 78501 United States;X-APPLE-RADIUS=500;X-TITLE=700 Convention Center Blvd:geo:-98.2593665,26.2010768
END:VEVENT
BEGIN:VEVENT
DTSTART;TZID=UTC:20250316T090000
DTEND;TZID=UTC:20250316T180000
DTSTAMP:20260420T150200
CREATED:20220615T175211Z
LAST-MODIFIED:20251229T012628Z
UID:26536-1742115600-1742148000@experiencemcallen.com
SUMMARY:Saxet Gun Show
DESCRIPTION:The Saxet Gun Show in McAllen at the McAllen Convention Center\nSaxet Gun Show is back to the McAllen Convention Center! Experience the best show for hunters to enthusiasts looking for some rare collectibles. Don’t miss out on this show! \nTickets are sold at the door for $8.
URL:https://experiencemcallen.com/event/saxet-gun-show-in-mcallen/2025-03-16/
LOCATION:McAllen Convention Center\, 700 Convention Center Blvd\, McAllen\, TX\, 78501\, United States
CATEGORIES:Conference/Convention,Convention Center,Ticketed
ATTACH;FMTTYPE=image/jpeg:https://experiencemcallen.com/wp-content/uploads/2022/06/Saxet-Gun-show.jpg
GEO:26.2010768;-98.2593665
X-APPLE-STRUCTURED-LOCATION;VALUE=URI;X-ADDRESS=McAllen Convention Center 700 Convention Center Blvd McAllen TX 78501 United States;X-APPLE-RADIUS=500;X-TITLE=700 Convention Center Blvd:geo:-98.2593665,26.2010768
END:VEVENT
BEGIN:VEVENT
DTSTART;TZID=UTC:20250321T120000
DTEND;TZID=UTC:20250321T220000
DTSTAMP:20260420T150200
CREATED:20250305T163140Z
LAST-MODIFIED:20250305T163141Z
UID:26575-1742558400-1742594400@experiencemcallen.com
SUMMARY:Palm CIty Tattoo Expo
DESCRIPTION:General admission ticket is:  $25\nWeekend Pass:   $40\nChildren 12 yrs and under\, Free admission
URL:https://experiencemcallen.com/event/palm-city-tattoo-expo/2025-03-21/
LOCATION:McAllen Convention Center\, 700 Convention Center Blvd\, McAllen\, TX\, 78501\, United States
CATEGORIES:Conference/Convention,Convention Center,Ticketed
ATTACH;FMTTYPE=image/png:https://experiencemcallen.com/wp-content/uploads/2025/03/saxetpalm.png
GEO:26.2010768;-98.2593665
X-APPLE-STRUCTURED-LOCATION;VALUE=URI;X-ADDRESS=McAllen Convention Center 700 Convention Center Blvd McAllen TX 78501 United States;X-APPLE-RADIUS=500;X-TITLE=700 Convention Center Blvd:geo:-98.2593665,26.2010768
END:VEVENT
BEGIN:VEVENT
DTSTART;TZID=UTC:20250322T120000
DTEND;TZID=UTC:20250322T220000
DTSTAMP:20260420T150200
CREATED:20250305T163140Z
LAST-MODIFIED:20250305T163140Z
UID:26579-1742644800-1742680800@experiencemcallen.com
SUMMARY:Palm CIty Tattoo Expo
DESCRIPTION:General admission ticket is:  $25\nWeekend Pass:   $40\nChildren 12 yrs and under\, Free admission
URL:https://experiencemcallen.com/event/palm-city-tattoo-expo/2025-03-22/
LOCATION:McAllen Convention Center\, 700 Convention Center Blvd\, McAllen\, TX\, 78501\, United States
CATEGORIES:Conference/Convention,Convention Center,Ticketed
ATTACH;FMTTYPE=image/png:https://experiencemcallen.com/wp-content/uploads/2025/03/saxetpalm.png
GEO:26.2010768;-98.2593665
X-APPLE-STRUCTURED-LOCATION;VALUE=URI;X-ADDRESS=McAllen Convention Center 700 Convention Center Blvd McAllen TX 78501 United States;X-APPLE-RADIUS=500;X-TITLE=700 Convention Center Blvd:geo:-98.2593665,26.2010768
END:VEVENT
BEGIN:VEVENT
DTSTART;TZID=UTC:20250323T100000
DTEND;TZID=UTC:20250323T200000
DTSTAMP:20260420T150200
CREATED:20250305T163140Z
LAST-MODIFIED:20250305T163140Z
UID:26580-1742724000-1742760000@experiencemcallen.com
SUMMARY:Palm CIty Tattoo Expo
DESCRIPTION:General admission ticket is:  $25\nWeekend Pass:   $40\nChildren 12 yrs and under\, Free admission
URL:https://experiencemcallen.com/event/palm-city-tattoo-expo/2025-03-23/
LOCATION:McAllen Convention Center\, 700 Convention Center Blvd\, McAllen\, TX\, 78501\, United States
CATEGORIES:Conference/Convention,Convention Center,Ticketed
ATTACH;FMTTYPE=image/png:https://experiencemcallen.com/wp-content/uploads/2025/03/saxetpalm.png
GEO:26.2010768;-98.2593665
X-APPLE-STRUCTURED-LOCATION;VALUE=URI;X-ADDRESS=McAllen Convention Center 700 Convention Center Blvd McAllen TX 78501 United States;X-APPLE-RADIUS=500;X-TITLE=700 Convention Center Blvd:geo:-98.2593665,26.2010768
END:VEVENT
END:VCALENDAR