BEGIN:VCALENDAR
VERSION:2.0
PRODID:-//Experience McAllen - ECPv6.15.17.1//NONSGML v1.0//EN
CALSCALE:GREGORIAN
METHOD:PUBLISH
X-ORIGINAL-URL:https://experiencemcallen.com
X-WR-CALDESC:Events for Experience McAllen
REFRESH-INTERVAL;VALUE=DURATION:PT1H
X-Robots-Tag:noindex
X-PUBLISHED-TTL:PT1H
BEGIN:VTIMEZONE
TZID:UTC
BEGIN:STANDARD
TZOFFSETFROM:+0000
TZOFFSETTO:+0000
TZNAME:UTC
DTSTART:20240101T000000
END:STANDARD
END:VTIMEZONE
BEGIN:VEVENT
DTSTART;TZID=UTC:20250101T200000
DTEND;TZID=UTC:20250101T200000
DTSTAMP:20260420T183000
CREATED:20221221T213943Z
LAST-MODIFIED:20241031T190201Z
UID:21779-1735761600-1735761600@experiencemcallen.com
SUMMARY:John Milton
DESCRIPTION:John Milton in McAllen\nJohn Milton en McAllen es el hipnotista e hipnoterapeuta que con hipnosis ha ayudado a miles de personas con terapias en México y todo el mundo. \nBuy Your Tickets Now! \nView More Events or Leave Us A Review
URL:https://experiencemcallen.com/event/john-milton-in-mcallen/2025-01-01/
LOCATION:McAllen Performing Arts Center\, 801 Convention Center Boulevard\, McAllen\, TX\, 78501\, United States
CATEGORIES:Performance,Performing Arts Center,Ticketed
ATTACH;FMTTYPE=image/jpeg:https://experiencemcallen.com/wp-content/uploads/2022/12/john-milton.jpg
GEO:26.198567;-98.258479
X-APPLE-STRUCTURED-LOCATION;VALUE=URI;X-ADDRESS=McAllen Performing Arts Center 801 Convention Center Boulevard McAllen TX 78501 United States;X-APPLE-RADIUS=500;X-TITLE=801 Convention Center Boulevard:geo:-98.258479,26.198567
END:VEVENT
BEGIN:VEVENT
DTSTART;TZID=UTC:20250102T200000
DTEND;TZID=UTC:20250102T200000
DTSTAMP:20260420T183000
CREATED:20221221T213943Z
LAST-MODIFIED:20241031T190202Z
UID:26244-1735848000-1735848000@experiencemcallen.com
SUMMARY:John Milton
DESCRIPTION:John Milton in McAllen\nJohn Milton en McAllen es el hipnotista e hipnoterapeuta que con hipnosis ha ayudado a miles de personas con terapias en México y todo el mundo. \nBuy Your Tickets Now! \nView More Events or Leave Us A Review
URL:https://experiencemcallen.com/event/john-milton-in-mcallen/2025-01-02/
LOCATION:McAllen Performing Arts Center\, 801 Convention Center Boulevard\, McAllen\, TX\, 78501\, United States
CATEGORIES:Performance,Performing Arts Center,Ticketed
ATTACH;FMTTYPE=image/jpeg:https://experiencemcallen.com/wp-content/uploads/2022/12/john-milton.jpg
GEO:26.198567;-98.258479
X-APPLE-STRUCTURED-LOCATION;VALUE=URI;X-ADDRESS=McAllen Performing Arts Center 801 Convention Center Boulevard McAllen TX 78501 United States;X-APPLE-RADIUS=500;X-TITLE=801 Convention Center Boulevard:geo:-98.258479,26.198567
END:VEVENT
BEGIN:VEVENT
DTSTART;TZID=UTC:20250103T200000
DTEND;TZID=UTC:20250103T200000
DTSTAMP:20260420T183000
CREATED:20221221T213943Z
LAST-MODIFIED:20241031T190206Z
UID:26245-1735934400-1735934400@experiencemcallen.com
SUMMARY:John Milton
DESCRIPTION:John Milton in McAllen\nJohn Milton en McAllen es el hipnotista e hipnoterapeuta que con hipnosis ha ayudado a miles de personas con terapias en México y todo el mundo. \nBuy Your Tickets Now! \nView More Events or Leave Us A Review
URL:https://experiencemcallen.com/event/john-milton-in-mcallen/2025-01-03/
LOCATION:McAllen Performing Arts Center\, 801 Convention Center Boulevard\, McAllen\, TX\, 78501\, United States
CATEGORIES:Performance,Performing Arts Center,Ticketed
ATTACH;FMTTYPE=image/jpeg:https://experiencemcallen.com/wp-content/uploads/2022/12/john-milton.jpg
GEO:26.198567;-98.258479
X-APPLE-STRUCTURED-LOCATION;VALUE=URI;X-ADDRESS=McAllen Performing Arts Center 801 Convention Center Boulevard McAllen TX 78501 United States;X-APPLE-RADIUS=500;X-TITLE=801 Convention Center Boulevard:geo:-98.258479,26.198567
END:VEVENT
BEGIN:VEVENT
DTSTART;TZID=UTC:20250104T200000
DTEND;TZID=UTC:20250104T200000
DTSTAMP:20260420T183000
CREATED:20221221T213943Z
LAST-MODIFIED:20241031T190208Z
UID:26246-1736020800-1736020800@experiencemcallen.com
SUMMARY:John Milton
DESCRIPTION:John Milton in McAllen\nJohn Milton en McAllen es el hipnotista e hipnoterapeuta que con hipnosis ha ayudado a miles de personas con terapias en México y todo el mundo. \nBuy Your Tickets Now! \nView More Events or Leave Us A Review
URL:https://experiencemcallen.com/event/john-milton-in-mcallen/2025-01-04/
LOCATION:McAllen Performing Arts Center\, 801 Convention Center Boulevard\, McAllen\, TX\, 78501\, United States
CATEGORIES:Performance,Performing Arts Center,Ticketed
ATTACH;FMTTYPE=image/jpeg:https://experiencemcallen.com/wp-content/uploads/2022/12/john-milton.jpg
GEO:26.198567;-98.258479
X-APPLE-STRUCTURED-LOCATION;VALUE=URI;X-ADDRESS=McAllen Performing Arts Center 801 Convention Center Boulevard McAllen TX 78501 United States;X-APPLE-RADIUS=500;X-TITLE=801 Convention Center Boulevard:geo:-98.258479,26.198567
END:VEVENT
BEGIN:VEVENT
DTSTART;TZID=UTC:20250105T200000
DTEND;TZID=UTC:20250105T200000
DTSTAMP:20260420T183000
CREATED:20221221T213943Z
LAST-MODIFIED:20241031T190209Z
UID:26247-1736107200-1736107200@experiencemcallen.com
SUMMARY:John Milton
DESCRIPTION:John Milton in McAllen\nJohn Milton en McAllen es el hipnotista e hipnoterapeuta que con hipnosis ha ayudado a miles de personas con terapias en México y todo el mundo. \nBuy Your Tickets Now! \nView More Events or Leave Us A Review
URL:https://experiencemcallen.com/event/john-milton-in-mcallen/2025-01-05/
LOCATION:McAllen Performing Arts Center\, 801 Convention Center Boulevard\, McAllen\, TX\, 78501\, United States
CATEGORIES:Performance,Performing Arts Center,Ticketed
ATTACH;FMTTYPE=image/jpeg:https://experiencemcallen.com/wp-content/uploads/2022/12/john-milton.jpg
GEO:26.198567;-98.258479
X-APPLE-STRUCTURED-LOCATION;VALUE=URI;X-ADDRESS=McAllen Performing Arts Center 801 Convention Center Boulevard McAllen TX 78501 United States;X-APPLE-RADIUS=500;X-TITLE=801 Convention Center Boulevard:geo:-98.258479,26.198567
END:VEVENT
BEGIN:VEVENT
DTSTART;TZID=UTC:20250121T090000
DTEND;TZID=UTC:20250121T150000
DTSTAMP:20260420T183000
CREATED:20241227T153911Z
LAST-MODIFIED:20241227T153944Z
UID:26308-1737450000-1737471600@experiencemcallen.com
SUMMARY:Winter Texan Expo
DESCRIPTION:
URL:https://experiencemcallen.com/event/winter-texan-expo/2025-01-21/
LOCATION:McAllen Convention Center\, 700 Convention Center Blvd\, McAllen\, TX\, 78501\, United States
ATTACH;FMTTYPE=image/png:https://experiencemcallen.com/wp-content/uploads/2024/12/winter-texans.png
GEO:26.2010768;-98.2593665
X-APPLE-STRUCTURED-LOCATION;VALUE=URI;X-ADDRESS=McAllen Convention Center 700 Convention Center Blvd McAllen TX 78501 United States;X-APPLE-RADIUS=500;X-TITLE=700 Convention Center Blvd:geo:-98.2593665,26.2010768
END:VEVENT
BEGIN:VEVENT
DTSTART;TZID=UTC:20250122T090000
DTEND;TZID=UTC:20250122T150000
DTSTAMP:20260420T183000
CREATED:20241227T153911Z
LAST-MODIFIED:20241227T153945Z
UID:26311-1737536400-1737558000@experiencemcallen.com
SUMMARY:Winter Texan Expo
DESCRIPTION:
URL:https://experiencemcallen.com/event/winter-texan-expo/2025-01-22/
LOCATION:McAllen Convention Center\, 700 Convention Center Blvd\, McAllen\, TX\, 78501\, United States
ATTACH;FMTTYPE=image/png:https://experiencemcallen.com/wp-content/uploads/2024/12/winter-texans.png
GEO:26.2010768;-98.2593665
X-APPLE-STRUCTURED-LOCATION;VALUE=URI;X-ADDRESS=McAllen Convention Center 700 Convention Center Blvd McAllen TX 78501 United States;X-APPLE-RADIUS=500;X-TITLE=700 Convention Center Blvd:geo:-98.2593665,26.2010768
END:VEVENT
BEGIN:VEVENT
DTSTART;TZID=UTC:20250131T080000
DTEND;TZID=UTC:20250131T080000
DTSTAMP:20260420T183000
CREATED:20220115T201718Z
LAST-MODIFIED:20250111T005216Z
UID:20441-1738310400-1738310400@experiencemcallen.com
SUMMARY:McAllen CarFest
DESCRIPTION:McAllen CarFest at the McAllen Convention Center\n🚗 ⚙️GEAR UP for McAllen International CarFest’s 15th Anniversary! Join us Jan 31st – Feb 2nd! 🏎️ 🎉 \nKids 12 years & under: FREE\nGet your tickets NOW at https://bit.ly/McallenCarfest25 \nENJOY our 15th ANNIVERSARY ATTRACTIONS\n🚘300+ Vehicles indoors & outdoors around Oval Park\n🏎️Porsche Skills Challenge by RGV Porsche Club\n🏆2 Live Music Stages\, Arcade\, & Food Park\n🍺 Beer Garden inside Exhibit Hall\n🌟Special Guests\n💥50 ft. LEGO Racetrack\n🎊Carfest Swap Meet AND MORE!! \n📍McAllen Convention Center\nFri. Jan. 31 – 4 pm – 9 pm\nSat. Feb. 1 – 10 am – 9 pm\nSun. Feb. 2 – 10 am – 6 pm \n🎟Admission: Kids 12 years & under: FREE\nAdults: $15 | 3 Day Pass: $30\nSenior Citizens (60+): $12\nMilitary/First Responders\, 60 Years+\, and Students 13-18 years with valid school ID: $12 \n🏎Visit www.mcallencarfest.com for tickets and more! \nCarFest is brought to you by McAllen International Airport\, Payne Auto Group\, Clark Chevrolet\, & Texas Tops\n#McAllenInternationalCarfest #McAllenTX #Carfest \n        \nView More Events or Leave Us A Review \n​
URL:https://experiencemcallen.com/event/mcallen-carfest/2025-01-31/
LOCATION:McAllen Convention Center\, 700 Convention Center Blvd\, McAllen\, TX\, 78501\, United States
CATEGORIES:Conference/Convention,Convention Center,Featured,Ticketed
ATTACH;FMTTYPE=image/jpeg:https://experiencemcallen.com/wp-content/uploads/2022/01/CF25-01.jpg
GEO:26.2010768;-98.2593665
X-APPLE-STRUCTURED-LOCATION;VALUE=URI;X-ADDRESS=McAllen Convention Center 700 Convention Center Blvd McAllen TX 78501 United States;X-APPLE-RADIUS=500;X-TITLE=700 Convention Center Blvd:geo:-98.2593665,26.2010768
END:VEVENT
END:VCALENDAR