BEGIN:VCALENDAR
VERSION:2.0
PRODID:-//Experience McAllen - ECPv6.15.20//NONSGML v1.0//EN
CALSCALE:GREGORIAN
METHOD:PUBLISH
X-WR-CALNAME:Experience McAllen
X-ORIGINAL-URL:https://experiencemcallen.com
X-WR-CALDESC:Events for Experience McAllen
REFRESH-INTERVAL;VALUE=DURATION:PT1H
X-Robots-Tag:noindex
X-PUBLISHED-TTL:PT1H
BEGIN:VTIMEZONE
TZID:UTC
BEGIN:STANDARD
TZOFFSETFROM:+0000
TZOFFSETTO:+0000
TZNAME:UTC
DTSTART:20240101T000000
END:STANDARD
END:VTIMEZONE
BEGIN:VEVENT
DTSTART;VALUE=DATE:20260417
DTEND;VALUE=DATE:20260420
DTSTAMP:20260423T104819
CREATED:20260320T130345Z
LAST-MODIFIED:20260319T164859Z
UID:49930-1776384000-1776643199@experiencemcallen.com
SUMMARY:Palm City Tattoo Expo 2026 | McAllen TX  April 17–19
DESCRIPTION:Palm City Tattoo Expo 2026 | McAllen TX  April 17–19\nPalm City Tattoo Expo returns to McAllen April 17–19\, 2026 featuring tattoo artists\, live tattooing\, contests\, vendors\, and entertainment in South Texas. \n  \nBUY TICKETS \n  \nPalm City Tattoo Expo Returns to McAllen\nPalm City Tattoo Expo brings top tattoo artists\, live tattooing\, contests\, and vendors to McAllen April 17–19\, 2026 for a weekend celebrating tattoo culture and artistry. \n  \nThe Palm City Tattoo Expo returns to the McAllen Convention Center for an exciting weekend celebrating tattoo artistry\, creativity\, and culture from April 17 through April 19\, 2026. \nHosted in McAllen\, Texas\, this multi-day event brings together talented tattoo artists from across the region and beyond\, offering attendees the opportunity to experience live tattooing\, meet artists\, and explore a wide variety of styles and techniques. \nThroughout the weekend\, guests can enjoy: \n🎨 Live tattoo sessions by professional artists🖊 Opportunities to get tattooed on-site🏆 Tattoo contests showcasing top work🛍 Vendors featuring art\, apparel\, and collectibles🎶 Live entertainment and special attractions \nThe Palm City Tattoo Expo has become a standout event in South Texas\, attracting tattoo enthusiasts\, collectors\, and artists looking to connect\, showcase their work\, and celebrate the culture behind the art form. \nWhether you’re looking to get your next tattoo\, meet talented artists\, or simply explore the creativity of the tattoo world\, this event offers an immersive experience unlike any other in the Rio Grande Valley. \n\nEVENT DETAILS\n📅 Dates: April 17–19\, 2026 \n📍 Location: McAllen Convention Center \n🌐 More information: \nhttps://www.palmcitytattooexpo.com/ \n 
URL:https://experiencemcallen.com/event/palm-city-tattoo-expo-mcallen-2026/
LOCATION:McAllen Performing Arts Center\, 801 Convention Center Boulevard\, McAllen\, TX\, 78501\, United States
CATEGORIES:Conference/Convention,Convention Center,Featured,Ticketed
ATTACH;FMTTYPE=image/jpeg:https://experiencemcallen.com/wp-content/uploads/2026/03/1080-X-1080-working-file-44.jpg
GEO:26.198567;-98.258479
X-APPLE-STRUCTURED-LOCATION;VALUE=URI;X-ADDRESS=McAllen Performing Arts Center 801 Convention Center Boulevard McAllen TX 78501 United States;X-APPLE-RADIUS=500;X-TITLE=801 Convention Center Boulevard:geo:-98.258479,26.198567
END:VEVENT
BEGIN:VEVENT
DTSTART;TZID=UTC:20260403T200000
DTEND;TZID=UTC:20260403T200000
DTSTAMP:20260423T104819
CREATED:20260127T090024Z
LAST-MODIFIED:20260123T233900Z
UID:27658-1775246400-1775246400@experiencemcallen.com
SUMMARY:No Te Pierdas Beto Cuevas Acústico | McAllen TX – Abril 3\, 2026
DESCRIPTION:Beto Cuevas Acústico | McAllen TX – Abril 3\, 2026\n  \nBOLETOS \nBeto Cuevas llega a McAllen con su gira Acústico este 3 de abril de 2026 en el McAllen Performing Arts Center. Una noche íntima e inolvidable. \n  \nEl reconocido cantante y compositor Beto Cuevas llega a McAllen con una presentación muy especial: Beto Cuevas Acústico\, un concierto íntimo que destaca la fuerza emocional de su voz y su legado musical. \nEl espectáculo se llevará a cabo el viernes 3 de abril de 2026 en el McAllen Performing Arts Center\, ofreciendo al público una experiencia única donde las canciones toman un nuevo significado en un formato acústico\, cercano y profundamente personal. \nConocido internacionalmente como la voz principal de La Ley y por su exitosa carrera como solista\, Beto Cuevas ha marcado generaciones con letras intensas\, interpretaciones poderosas y una presencia escénica inconfundible. En esta gira acústica\, el artista invita al público a redescubrir sus grandes éxitos y nuevas interpretaciones en un ambiente más íntimo y emotivo. \nBeto Cuevas Acústico es una oportunidad excepcional para vivir la música de uno de los íconos del rock en español desde una perspectiva diferente\, resaltando la conexión directa entre el artista y su audiencia. \n\nNo te pierdas esta noche especial con Beto Cuevas en McAllen\, una velada cargada de emoción\, nostalgia y música en su forma más pura.
URL:https://experiencemcallen.com/event/beto-cuevas-acustico-mcallen/
LOCATION:McAllen Performing Arts Center\, 801 Convention Center Boulevard\, McAllen\, TX\, 78501\, United States
CATEGORIES:Concert,Featured,Performance,Performing Arts Center,Ticketed
ATTACH;FMTTYPE=image/jpeg:https://experiencemcallen.com/wp-content/uploads/2026/01/Static_Social-Instagram_1080x1080_BetoCuevas_2026_Regional_McAllenPerformingArtsCenter_0403.jpg
GEO:26.198567;-98.258479
X-APPLE-STRUCTURED-LOCATION;VALUE=URI;X-ADDRESS=McAllen Performing Arts Center 801 Convention Center Boulevard McAllen TX 78501 United States;X-APPLE-RADIUS=500;X-TITLE=801 Convention Center Boulevard:geo:-98.258479,26.198567
END:VEVENT
BEGIN:VEVENT
DTSTART;TZID=UTC:20260320T200000
DTEND;TZID=UTC:20260320T200000
DTSTAMP:20260423T104819
CREATED:20260302T142054Z
LAST-MODIFIED:20260302T142257Z
UID:38067-1774036800-1774036800@experiencemcallen.com
SUMMARY:Gaby Mendoza en McAllen | 20 de Marzo 2026
DESCRIPTION:Gaby Mendoza en McAllen | 20 de Marzo 2026\n  \nCOMPRA BOLETOS \n  \n\n\n\n\n\n\n\n\n\nLa energía\, el humor y el carisma llegan a McAllen con Gaby Mendoza\, quien presenta su espectacular La + Bonitaaa Tour 2026 el 20 de marzo en el McAllen Performing Arts Center. \nCon millones de seguidores en redes sociales y un estilo único que mezcla comedia\, cultura pop y situaciones cotidianas\, Gaby Mendoza se ha convertido en una de las figuras más queridas del entretenimiento latino. \nEste show promete: \n✨ Risas sin parar📱 Momentos virales en vivo🎭 Personajes icónicos🎉 Interacción directa con el público \nUna noche perfecta para disfrutar con amigas\, pareja o familia y vivir una experiencia divertida y llena de energía. \n📍 Lugar: McAllen Performing Arts Center \n📅 Fecha: 20 de marzo🎟 Boletos: Disponibles en Ticketmaster y taquilla del MPAC \nNo te pierdas uno de los eventos más esperados del año en McAllen. \n  \nComedy sensation Gaby Mendoza brings her electrifying La + Bonitaaa Tour 2026 to the McAllen Performing Arts Center on March 20. \nKnown for her bold personality\, viral social media presence\, and relatable humor\, Gaby Mendoza has become one of the fastest-growing Latin entertainers. Her live performances combine high-energy comedy\, iconic characters\, and crowd interaction that keeps audiences laughing from start to finish. \nExpect: \n🎤 Non-stop laughs📱 Viral live moments💖 High-energy stage presence🎉 Interactive audience fun \nThis is one of the must-see Latin comedy events of the year in the Rio Grande Valley. \n📍 Venue: McAllen Performing Arts Center📅 Date: March 20🎟 Tickets: Available via Ticketmaster and MPAC Box Office \nDon’t miss this unforgettable night in McAllen.
URL:https://experiencemcallen.com/event/gaby-mendoza-mcallen/
LOCATION:TX
CATEGORIES:Featured,Performance,Performing Arts Center,Ticketed
ATTACH;FMTTYPE=image/jpeg:https://experiencemcallen.com/wp-content/uploads/2026/03/1200X1200_24-ENE_Gaby-Mendoza_Rio-Bravo_ARLINGTON-TX-copy.jpg
END:VEVENT
BEGIN:VEVENT
DTSTART;TZID=UTC:20260319T200000
DTEND;TZID=UTC:20260319T200000
DTSTAMP:20260423T104819
CREATED:20260106T155040Z
LAST-MODIFIED:20260106T155040Z
UID:27570-1773950400-1773950400@experiencemcallen.com
SUMMARY:Fey en McAllen TX – Marzo 19
DESCRIPTION:Fey en Vivo en McAllen | Hit Tour 30 Aniversario\nFey en Vivo | McAllen TX – Marzo 19\nCompra Ya \nFey celebra 30 años de éxitos con su Hit Tour en McAllen. Vive una noche llena de nostalgia y pop latino el 19 de marzo en MPAC. \nPrepárate para una noche inolvidable llena de nostalgia\, energía y grandes éxitos con Fey\, quien llega a McAllen como parte de su Hit Tour 30 Aniversario\, celebrando tres décadas de una de las carreras más influyentes del pop en español. \nEl concierto se llevará a cabo el miércoles 19 de marzo en el McAllen Performing Arts Center\, donde el público podrá revivir los himnos que marcaron a generaciones y que consolidaron a Fey como un ícono de la música latina. \nFey es una cantante\, compositora y productora mexicana\, nominada al Latin Grammy\, reconocida como una de las figuras más influyentes del pop en español. Debutó en 1995 con su álbum Fey y alcanzó fama internacional con éxitos como “Azúcar Amargo” y “Ni Tú Ni Nadie”\, canciones que permanecieron más de 30 semanas en las listas de Billboard y lideraron rankings en toda Latinoamérica. \nA lo largo de su trayectoria\, ha lanzado múltiples discos de gran éxito\, incluyendo La Fuerza del Destino\, que le otorgó su primera nominación al Latin Grammy\, y Primera Fila\, certificado oro a solo tres semanas de su lanzamiento. Sus giras han recorrido México\, Estados Unidos\, Latinoamérica y Europa\, estableciendo récords de asistencia en recintos emblemáticos como el Auditorio Nacional. \nReconocida también por su impacto dentro de la comunidad LGBTQ+ y por su fuerte presencia digital\, Fey continúa vigente tras más de 30 años de carrera\, consolidándose como una artista que evoluciona constantemente sin perder la conexión con su público. \nEl Hit Tour 30 Aniversario es una celebración del pasado\, presente y futuro de Fey: un espectáculo con producción de alto nivel\, visuales impactantes\, coreografías y una selección de canciones que han definido la historia del pop latino. \n\nNo te pierdas la oportunidad de cantar\, bailar y celebrar 30 años de éxitos con Fey en vivo en McAllen.
URL:https://experiencemcallen.com/event/fey-en-mcallen-tx-marzo-19/
LOCATION:McAllen Performing Arts Center\, 801 Convention Center Boulevard\, McAllen\, TX\, 78501\, United States
CATEGORIES:Concert,Featured,Performance,Performing Arts Center,Ticketed
ATTACH;FMTTYPE=image/png:https://experiencemcallen.com/wp-content/uploads/2026/01/MCALLEN-4X4.png
GEO:26.198567;-98.258479
X-APPLE-STRUCTURED-LOCATION;VALUE=URI;X-ADDRESS=McAllen Performing Arts Center 801 Convention Center Boulevard McAllen TX 78501 United States;X-APPLE-RADIUS=500;X-TITLE=801 Convention Center Boulevard:geo:-98.258479,26.198567
END:VEVENT
BEGIN:VEVENT
DTSTART;TZID=UTC:20260215T120000
DTEND;TZID=UTC:20260215T170000
DTSTAMP:20260423T104819
CREATED:20260128T235411Z
LAST-MODIFIED:20260129T134820Z
UID:27672-1771156800-1771174800@experiencemcallen.com
SUMMARY:RGV Wedding & Quince Expo | McAllen TX – Feb 15\, 2026
DESCRIPTION:RGV Wedding & Quince Expo | McAllen TX – Feb 15\, 2026\n  \nEVENT INFO \n  \nPlan your dream wedding or quinceañera at the RGV Wedding & Quince Expo on Feb 15\, 2026 at McAllen Convention Center. Vendors\, ideas & inspiration. \nBrides\, quinceañeras\, and families are invited to plan their perfect celebration at the RGV Wedding & Quince Expo\, taking place on Sunday\, February 15\, 2026 at the McAllen Convention Center. \nThis premier regional expo brings together top wedding and quinceañera professionals from across the Rio Grande Valley\, offering attendees a one-stop destination for inspiration\, planning\, and exclusive vendor access. From elegant bridal gowns and stunning quince dresses to venues\, décor\, photography\, catering\, entertainment\, and more\, the expo is designed to help turn dream celebrations into reality. \nAttendees will have the opportunity to meet directly with experienced vendors\, explore the latest trends\, compare services\, and gather ideas for every detail of their special event. Whether you’re just starting the planning process or finalizing the finishing touches\, the RGV Wedding & Quince Expo offers valuable resources and inspiration for celebrations of all styles and budgets. \nPerfect for brides-to-be\, quinceañeras\, parents\, and families\, this event is one of the most anticipated planning expos of the year in South Texas. \n📅 Date: Sunday\, February 15\, 2026📍 Location: McAllen Convention Center🌐 Website: www.RGVWeddingandQuince.com📞 More Info: (956) 400-4483 \nDon’t miss your chance to connect with the region’s best vendors and start planning a wedding or quinceañera that’s truly unforgettable.
URL:https://experiencemcallen.com/event/rgv-wedding-quince-expo-mcallen/
LOCATION:McAllen Performing Arts Center\, 801 Convention Center Boulevard\, McAllen\, TX\, 78501\, United States
CATEGORIES:Conference/Convention,Convention Center,Featured
ATTACH;FMTTYPE=image/jpeg:https://experiencemcallen.com/wp-content/uploads/2026/01/611580151_1544818320698697_7028435456647516427_n.jpg
GEO:26.198567;-98.258479
X-APPLE-STRUCTURED-LOCATION;VALUE=URI;X-ADDRESS=McAllen Performing Arts Center 801 Convention Center Boulevard McAllen TX 78501 United States;X-APPLE-RADIUS=500;X-TITLE=801 Convention Center Boulevard:geo:-98.258479,26.198567
END:VEVENT
BEGIN:VEVENT
DTSTART;TZID=UTC:20260128T173000
DTEND;TZID=UTC:20260128T173000
DTSTAMP:20260423T104819
CREATED:20260128T203301Z
LAST-MODIFIED:20260128T203958Z
UID:27666-1769621400-1769621400@experiencemcallen.com
SUMMARY:Celebrate Navy Week in McAllen  | FREE Concert Navy “Deckplate Brass Band"
DESCRIPTION:City of McAllen Celebrates Navy Week \n\n\n\n\n\n\n\n\n\nCeremonial Guard Performance\, Naval Aviation Flyover & Navy Band Concert \nMcAllen proudly celebrates Navy Week with a powerful evening of pageantry\, music\, and aviation. \nThe evening begins with a Naval Aviation flyover at the Veterans War Memorial of Texas\, featuring a T-6B Texan II aircraft flown by Training Squadron TWO-EIGHT (VT-28) at 5:30 p.m. This tribute honors the legacy\, service\, and sacrifice of America’s sailors—past and present. \nFollowing the flyover\, attendees will experience the precision and tradition of the U.S. Navy Ceremonial Guard\, showcasing a bayonet drill team performance from Washington\, D.C.\, reflecting the discipline and excellence of the Navy’s elite ceremonial unit. \nThe celebration continues at Oval Park at the McAllen Convention Center with a live concert by the U.S. Navy Band Southeast “Deckplate Brass Band.” This high-energy\, seven-member New Orleans–style jazz ensemble from Jacksonville\, Florida delivers a vibrant mix of classic brass\, jazz\, and patriotic favorites\, creating a festive and family-friendly atmosphere beginning at 6:00 p.m. \nJoin the community for an unforgettable Navy Week experience—honoring 250 years of naval service through aviation\, tradition\, and live music\, right here in McAllen.
URL:https://experiencemcallen.com/event/concert-navy-week-in-mcallen/
LOCATION:McAllen Performing Arts Center\, 801 Convention Center Boulevard\, McAllen\, TX\, 78501\, United States
CATEGORIES:Concert,Featured,Oval Park,Performance
ATTACH;FMTTYPE=image/jpeg:https://experiencemcallen.com/wp-content/uploads/2026/01/1080-X-1080-working-file-30.jpg
GEO:26.198567;-98.258479
X-APPLE-STRUCTURED-LOCATION;VALUE=URI;X-ADDRESS=McAllen Performing Arts Center 801 Convention Center Boulevard McAllen TX 78501 United States;X-APPLE-RADIUS=500;X-TITLE=801 Convention Center Boulevard:geo:-98.258479,26.198567
END:VEVENT
BEGIN:VEVENT
DTSTART;TZID=UTC:20260121T193000
DTEND;TZID=UTC:20260121T193000
DTSTAMP:20260423T104819
CREATED:20260102T204201Z
LAST-MODIFIED:20260102T204201Z
UID:27557-1769023800-1769023800@experiencemcallen.com
SUMMARY:Pianomania Live in Concert | McAllen TX
DESCRIPTION:Prepare for an unforgettable night of musical brilliance as Pianomania takes the stage in McAllen for a dynamic and visually stunning live concert experience. \nPianomania is a high-energy piano performance that celebrates the power\, versatility\, and excitement of the piano. Featuring virtuosic musicianship and captivating arrangements\, the show blends classical masterpieces\, contemporary hits\, and timeless favorites into a fast-paced concert that appeals to audiences of all ages. \nMore than a traditional recital\, Pianomania transforms the piano into a full-scale concert experience — combining technical mastery with showmanship\, storytelling\, and moments of pure musical spectacle. From dramatic classical works to upbeat modern selections\, the performance showcases the piano as an instrument without limits. \nSet inside the McAllen Performing Arts Center\, this concert offers an intimate yet powerful environment to enjoy world-class musicianship and acoustics. Whether you are a lifelong fan of piano music or discovering it in a fresh\, exciting way\, Pianomania promises an evening filled with inspiration\, energy\, and unforgettable sound.
URL:https://experiencemcallen.com/event/pianomania-live-in-concert-mcallen-tx/
LOCATION:McAllen Performing Arts Center\, 801 Convention Center Boulevard\, McAllen\, TX\, 78501\, United States
CATEGORIES:Concert,Featured,Performance,Performing Arts Center
ATTACH;FMTTYPE=image/jpeg:https://experiencemcallen.com/wp-content/uploads/2026/01/Pianomania-1.jpg
GEO:26.198567;-98.258479
X-APPLE-STRUCTURED-LOCATION;VALUE=URI;X-ADDRESS=McAllen Performing Arts Center 801 Convention Center Boulevard McAllen TX 78501 United States;X-APPLE-RADIUS=500;X-TITLE=801 Convention Center Boulevard:geo:-98.258479,26.198567
END:VEVENT
BEGIN:VEVENT
DTSTART;VALUE=DATE:20251005
DTEND;VALUE=DATE:20251006
DTSTAMP:20260423T104819
CREATED:20211005T145900Z
LAST-MODIFIED:20250609T174020Z
UID:26914-1759622400-1759708799@experiencemcallen.com
SUMMARY:Anime Fiesta
DESCRIPTION:
URL:https://experiencemcallen.com/event/anime-fiesta/2025-10-05/
LOCATION:McAllen Convention Center\, 700 Convention Center Blvd\, McAllen\, TX\, 78501\, United States
CATEGORIES:Conference/Convention,Convention Center,Featured
ATTACH;FMTTYPE=image/jpeg:https://experiencemcallen.com/wp-content/uploads/2021/10/Anime-Fiesta_2025.jpg
GEO:26.2010768;-98.2593665
X-APPLE-STRUCTURED-LOCATION;VALUE=URI;X-ADDRESS=McAllen Convention Center 700 Convention Center Blvd McAllen TX 78501 United States;X-APPLE-RADIUS=500;X-TITLE=700 Convention Center Blvd:geo:-98.2593665,26.2010768
END:VEVENT
BEGIN:VEVENT
DTSTART;VALUE=DATE:20251004
DTEND;VALUE=DATE:20251005
DTSTAMP:20260423T104819
CREATED:20211005T145900Z
LAST-MODIFIED:20250609T174019Z
UID:26913-1759536000-1759622399@experiencemcallen.com
SUMMARY:Anime Fiesta
DESCRIPTION:
URL:https://experiencemcallen.com/event/anime-fiesta/2025-10-04/
LOCATION:McAllen Convention Center\, 700 Convention Center Blvd\, McAllen\, TX\, 78501\, United States
CATEGORIES:Conference/Convention,Convention Center,Featured
ATTACH;FMTTYPE=image/jpeg:https://experiencemcallen.com/wp-content/uploads/2021/10/Anime-Fiesta_2025.jpg
GEO:26.2010768;-98.2593665
X-APPLE-STRUCTURED-LOCATION;VALUE=URI;X-ADDRESS=McAllen Convention Center 700 Convention Center Blvd McAllen TX 78501 United States;X-APPLE-RADIUS=500;X-TITLE=700 Convention Center Blvd:geo:-98.2593665,26.2010768
END:VEVENT
BEGIN:VEVENT
DTSTART;VALUE=DATE:20251003
DTEND;VALUE=DATE:20251004
DTSTAMP:20260423T104819
CREATED:20211005T145900Z
LAST-MODIFIED:20250609T174019Z
UID:20277-1759449600-1759535999@experiencemcallen.com
SUMMARY:Anime Fiesta
DESCRIPTION:
URL:https://experiencemcallen.com/event/anime-fiesta/2025-10-03/
LOCATION:McAllen Convention Center\, 700 Convention Center Blvd\, McAllen\, TX\, 78501\, United States
CATEGORIES:Conference/Convention,Convention Center,Featured
ATTACH;FMTTYPE=image/jpeg:https://experiencemcallen.com/wp-content/uploads/2021/10/Anime-Fiesta_2025.jpg
GEO:26.2010768;-98.2593665
X-APPLE-STRUCTURED-LOCATION;VALUE=URI;X-ADDRESS=McAllen Convention Center 700 Convention Center Blvd McAllen TX 78501 United States;X-APPLE-RADIUS=500;X-TITLE=700 Convention Center Blvd:geo:-98.2593665,26.2010768
END:VEVENT
BEGIN:VEVENT
DTSTART;TZID=UTC:20250511T170000
DTEND;TZID=UTC:20250511T220000
DTSTAMP:20260423T104819
CREATED:20240403T210239Z
LAST-MODIFIED:20240403T210239Z
UID:26720-1746982800-1747000800@experiencemcallen.com
SUMMARY:MXLAN 2024
DESCRIPTION:
URL:https://experiencemcallen.com/event/mxlan-2025/2025-05-11/
LOCATION:McAllen Performing Arts Center\, 801 Convention Center Boulevard\, McAllen\, TX\, 78501\, United States
CATEGORIES:Concert,Featured,Oval Park
ATTACH;FMTTYPE=image/jpeg:https://experiencemcallen.com/wp-content/uploads/2024/04/MOBILE-mxlan-slider.jpg
GEO:26.198567;-98.258479
X-APPLE-STRUCTURED-LOCATION;VALUE=URI;X-ADDRESS=McAllen Performing Arts Center 801 Convention Center Boulevard McAllen TX 78501 United States;X-APPLE-RADIUS=500;X-TITLE=801 Convention Center Boulevard:geo:-98.258479,26.198567
END:VEVENT
BEGIN:VEVENT
DTSTART;TZID=UTC:20250510T170000
DTEND;TZID=UTC:20250510T220000
DTSTAMP:20260423T104819
CREATED:20240403T210239Z
LAST-MODIFIED:20240403T210239Z
UID:26719-1746896400-1746914400@experiencemcallen.com
SUMMARY:MXLAN 2024
DESCRIPTION:
URL:https://experiencemcallen.com/event/mxlan-2025/2025-05-10/
LOCATION:McAllen Performing Arts Center\, 801 Convention Center Boulevard\, McAllen\, TX\, 78501\, United States
CATEGORIES:Concert,Featured,Oval Park
ATTACH;FMTTYPE=image/jpeg:https://experiencemcallen.com/wp-content/uploads/2024/04/MOBILE-mxlan-slider.jpg
GEO:26.198567;-98.258479
X-APPLE-STRUCTURED-LOCATION;VALUE=URI;X-ADDRESS=McAllen Performing Arts Center 801 Convention Center Boulevard McAllen TX 78501 United States;X-APPLE-RADIUS=500;X-TITLE=801 Convention Center Boulevard:geo:-98.258479,26.198567
END:VEVENT
BEGIN:VEVENT
DTSTART;TZID=UTC:20250509T170000
DTEND;TZID=UTC:20250509T230000
DTSTAMP:20260423T104819
CREATED:20240403T210239Z
LAST-MODIFIED:20250501T205411Z
UID:24568-1746810000-1746831600@experiencemcallen.com
SUMMARY:MXLAN 2024
DESCRIPTION:
URL:https://experiencemcallen.com/event/mxlan-2025/2025-05-09/
LOCATION:McAllen Performing Arts Center\, 801 Convention Center Boulevard\, McAllen\, TX\, 78501\, United States
CATEGORIES:Concert,Featured,Oval Park
ATTACH;FMTTYPE=image/jpeg:https://experiencemcallen.com/wp-content/uploads/2024/04/MOBILE-mxlan-slider.jpg
GEO:26.198567;-98.258479
X-APPLE-STRUCTURED-LOCATION;VALUE=URI;X-ADDRESS=McAllen Performing Arts Center 801 Convention Center Boulevard McAllen TX 78501 United States;X-APPLE-RADIUS=500;X-TITLE=801 Convention Center Boulevard:geo:-98.258479,26.198567
END:VEVENT
BEGIN:VEVENT
DTSTART;TZID=UTC:20250202T080000
DTEND;TZID=UTC:20250202T080000
DTSTAMP:20260423T104819
CREATED:20220115T201718Z
LAST-MODIFIED:20250111T005218Z
UID:26350-1738483200-1738483200@experiencemcallen.com
SUMMARY:McAllen CarFest
DESCRIPTION:McAllen CarFest at the McAllen Convention Center\n🚗 ⚙️GEAR UP for McAllen International CarFest’s 15th Anniversary! Join us Jan 31st – Feb 2nd! 🏎️ 🎉 \nKids 12 years & under: FREE\nGet your tickets NOW at https://bit.ly/McallenCarfest25 \nENJOY our 15th ANNIVERSARY ATTRACTIONS\n🚘300+ Vehicles indoors & outdoors around Oval Park\n🏎️Porsche Skills Challenge by RGV Porsche Club\n🏆2 Live Music Stages\, Arcade\, & Food Park\n🍺 Beer Garden inside Exhibit Hall\n🌟Special Guests\n💥50 ft. LEGO Racetrack\n🎊Carfest Swap Meet AND MORE!! \n📍McAllen Convention Center\nFri. Jan. 31 – 4 pm – 9 pm\nSat. Feb. 1 – 10 am – 9 pm\nSun. Feb. 2 – 10 am – 6 pm \n🎟Admission: Kids 12 years & under: FREE\nAdults: $15 | 3 Day Pass: $30\nSenior Citizens (60+): $12\nMilitary/First Responders\, 60 Years+\, and Students 13-18 years with valid school ID: $12 \n🏎Visit www.mcallencarfest.com for tickets and more! \nCarFest is brought to you by McAllen International Airport\, Payne Auto Group\, Clark Chevrolet\, & Texas Tops\n#McAllenInternationalCarfest #McAllenTX #Carfest \n        \nView More Events or Leave Us A Review \n​
URL:https://experiencemcallen.com/event/mcallen-carfest/2025-02-02/
LOCATION:McAllen Convention Center\, 700 Convention Center Blvd\, McAllen\, TX\, 78501\, United States
CATEGORIES:Conference/Convention,Convention Center,Featured,Ticketed
ATTACH;FMTTYPE=image/jpeg:https://experiencemcallen.com/wp-content/uploads/2022/01/CF25-01.jpg
GEO:26.2010768;-98.2593665
X-APPLE-STRUCTURED-LOCATION;VALUE=URI;X-ADDRESS=McAllen Convention Center 700 Convention Center Blvd McAllen TX 78501 United States;X-APPLE-RADIUS=500;X-TITLE=700 Convention Center Blvd:geo:-98.2593665,26.2010768
END:VEVENT
BEGIN:VEVENT
DTSTART;TZID=UTC:20250201T080000
DTEND;TZID=UTC:20250201T080000
DTSTAMP:20260423T104819
CREATED:20220115T201718Z
LAST-MODIFIED:20250111T005217Z
UID:26349-1738396800-1738396800@experiencemcallen.com
SUMMARY:McAllen CarFest
DESCRIPTION:McAllen CarFest at the McAllen Convention Center\n🚗 ⚙️GEAR UP for McAllen International CarFest’s 15th Anniversary! Join us Jan 31st – Feb 2nd! 🏎️ 🎉 \nKids 12 years & under: FREE\nGet your tickets NOW at https://bit.ly/McallenCarfest25 \nENJOY our 15th ANNIVERSARY ATTRACTIONS\n🚘300+ Vehicles indoors & outdoors around Oval Park\n🏎️Porsche Skills Challenge by RGV Porsche Club\n🏆2 Live Music Stages\, Arcade\, & Food Park\n🍺 Beer Garden inside Exhibit Hall\n🌟Special Guests\n💥50 ft. LEGO Racetrack\n🎊Carfest Swap Meet AND MORE!! \n📍McAllen Convention Center\nFri. Jan. 31 – 4 pm – 9 pm\nSat. Feb. 1 – 10 am – 9 pm\nSun. Feb. 2 – 10 am – 6 pm \n🎟Admission: Kids 12 years & under: FREE\nAdults: $15 | 3 Day Pass: $30\nSenior Citizens (60+): $12\nMilitary/First Responders\, 60 Years+\, and Students 13-18 years with valid school ID: $12 \n🏎Visit www.mcallencarfest.com for tickets and more! \nCarFest is brought to you by McAllen International Airport\, Payne Auto Group\, Clark Chevrolet\, & Texas Tops\n#McAllenInternationalCarfest #McAllenTX #Carfest \n        \nView More Events or Leave Us A Review \n​
URL:https://experiencemcallen.com/event/mcallen-carfest/2025-02-01/
LOCATION:McAllen Convention Center\, 700 Convention Center Blvd\, McAllen\, TX\, 78501\, United States
CATEGORIES:Conference/Convention,Convention Center,Featured,Ticketed
ATTACH;FMTTYPE=image/jpeg:https://experiencemcallen.com/wp-content/uploads/2022/01/CF25-01.jpg
GEO:26.2010768;-98.2593665
X-APPLE-STRUCTURED-LOCATION;VALUE=URI;X-ADDRESS=McAllen Convention Center 700 Convention Center Blvd McAllen TX 78501 United States;X-APPLE-RADIUS=500;X-TITLE=700 Convention Center Blvd:geo:-98.2593665,26.2010768
END:VEVENT
BEGIN:VEVENT
DTSTART;TZID=UTC:20250131T080000
DTEND;TZID=UTC:20250131T080000
DTSTAMP:20260423T104819
CREATED:20220115T201718Z
LAST-MODIFIED:20250111T005216Z
UID:20441-1738310400-1738310400@experiencemcallen.com
SUMMARY:McAllen CarFest
DESCRIPTION:McAllen CarFest at the McAllen Convention Center\n🚗 ⚙️GEAR UP for McAllen International CarFest’s 15th Anniversary! Join us Jan 31st – Feb 2nd! 🏎️ 🎉 \nKids 12 years & under: FREE\nGet your tickets NOW at https://bit.ly/McallenCarfest25 \nENJOY our 15th ANNIVERSARY ATTRACTIONS\n🚘300+ Vehicles indoors & outdoors around Oval Park\n🏎️Porsche Skills Challenge by RGV Porsche Club\n🏆2 Live Music Stages\, Arcade\, & Food Park\n🍺 Beer Garden inside Exhibit Hall\n🌟Special Guests\n💥50 ft. LEGO Racetrack\n🎊Carfest Swap Meet AND MORE!! \n📍McAllen Convention Center\nFri. Jan. 31 – 4 pm – 9 pm\nSat. Feb. 1 – 10 am – 9 pm\nSun. Feb. 2 – 10 am – 6 pm \n🎟Admission: Kids 12 years & under: FREE\nAdults: $15 | 3 Day Pass: $30\nSenior Citizens (60+): $12\nMilitary/First Responders\, 60 Years+\, and Students 13-18 years with valid school ID: $12 \n🏎Visit www.mcallencarfest.com for tickets and more! \nCarFest is brought to you by McAllen International Airport\, Payne Auto Group\, Clark Chevrolet\, & Texas Tops\n#McAllenInternationalCarfest #McAllenTX #Carfest \n        \nView More Events or Leave Us A Review \n​
URL:https://experiencemcallen.com/event/mcallen-carfest/2025-01-31/
LOCATION:McAllen Convention Center\, 700 Convention Center Blvd\, McAllen\, TX\, 78501\, United States
CATEGORIES:Conference/Convention,Convention Center,Featured,Ticketed
ATTACH;FMTTYPE=image/jpeg:https://experiencemcallen.com/wp-content/uploads/2022/01/CF25-01.jpg
GEO:26.2010768;-98.2593665
X-APPLE-STRUCTURED-LOCATION;VALUE=URI;X-ADDRESS=McAllen Convention Center 700 Convention Center Blvd McAllen TX 78501 United States;X-APPLE-RADIUS=500;X-TITLE=700 Convention Center Blvd:geo:-98.2593665,26.2010768
END:VEVENT
BEGIN:VEVENT
DTSTART;TZID=UTC:20260423T104819
DTEND;TZID=UTC:20260423T104819
DTSTAMP:20260423T104819
CREATED:20200602T145636Z
LAST-MODIFIED:20200602T145636Z
UID:19267-1776941299-1776941299@experiencemcallen.com
SUMMARY:Rain: A Tribute To the Beatles (Touring)
DESCRIPTION:NEW DATE!\nDate: Thursday April 15\, 2021 \nLocation: McAllen Performing Arts Center \nShowtime: 8:00pm \nAdmission Fee:  $105.00\, $55.00\, $50.00\, $45.00\, $40.00 plus fees at Ticketmaster.com. \nDoors open one hour before the show.
URL:https://experiencemcallen.com/event/rain-a-tribute-to-the-beatles-touring/
LOCATION:TX
CATEGORIES:Concert,Featured,Performance,Performing Arts Center,Ticketed
END:VEVENT
END:VCALENDAR